BEGIN:VCALENDAR
METHOD:PUBLISH
VERSION:2.0
CALSCALE:GREGORIAN
PRODID:-//NONSGML Sandhills Development\, LLC//NONSGML Sugar Calendar Fe
 eds v3.8.2//EN
X-WR-CALNAME:WORKSHOP : Wizards at the Supermarket | Dark Impro
X-WR-CALDESC:Salamanca Arts Centre
X-WR-TIMEZONE:Australia/Hobart
BEGIN:VTIMEZONE
TZID:Australia/Hobart
BEGIN:STANDARD
TZOFFSETFROM:+1100
TZOFFSETTO:+1000
DTSTART:20250405T160000
TZNAME:AEST
END:STANDARD
END:VTIMEZONE
BEGIN:VTIMEZONE
TZID:Australia/Hobart
BEGIN:STANDARD
TZOFFSETFROM:+1100
TZOFFSETTO:+1000
DTSTART:20250405T160000
TZNAME:AEST
END:STANDARD
END:VTIMEZONE
BEGIN:VEVENT
SUMMARY:WORKSHOP : Wizards at the Supermarket | Dark Impro
DESCRIPTION:A Dark Impro Festival Event | Presented by Protea Impro\n\n\
 n\nWorkshop with Malcom Morrison \n\n\n\nWizards at the Supermarket is 
 a comedic short story anthology exploring Fantasy/Sci-Fi Normalism (or t
 he Mundane Fantastic) - the interesting practical questions often swept 
 under the rug by the epic adventures. How did Dr. Destruction manage to 
 hire an extensive workforce of minions? What do Cthulhu cultists do on d
 ates?  How do vampire's afford their castles - and do they pay rates?\n
 \n\n\nThe show has a host setting up interesting scenarios which raise i
 nteresting questions in the audience's mind. Scenarios like ""A wizard c
 onverts to Christianity"" or ""A discussion panel for Monster Attack Spe
 cialists"". Then we see a scene play out exploring this concept.&nbsp\;\
 n\n\n\nThe audience enjoys the concept\, then gets captivated by the sho
 rt story through the cast's clever worldbuilding and grounded\, deeply h
 uman approach to the scene. The show relishes in finding the humour in t
 he shared experience that we can have even with horror-monsters from The
  Void. Heartfelt and funny.\n\n\n\nParticipants will expect to get two m
 ain things out of the workshop: how to world-build effectively\, as well
  as how to normalize the fantastic and fantasticize the normal. We will 
 explore how accepting offers differently has radically different results
  and how to superimpose human values onto the unknown.&nbsp\;\n\n\n\nWor
 kshop :Saturday 6 September 2025\, 1:00pm - 4:00pm\n\n\n\nCost : $50\n\n
 \n\n\nBook Now\n\n\n\n\n\n\n\nAccessibility\n\n\n\nAccessible Toilet (lo
 cated in the Courtyard)Registered Assistance Animals welcomeWheelchair A
 ccessible (via the Courtyard)
URL;VALUE=URI:https://www.sac.org.au/events/workshop-wizards-in-the-supe
 rmarket/
UID:urn:uuid:c25227a4-3ca9-4d9b-a6f1-5b9ef6f6614f
STATUS:CONFIRMED
ORGANIZER:
DTSTAMP:20260426T000211Z
DTSTART;TZID=Australia/Hobart:20250906T130000
DTEND;TZID=Australia/Hobart:20250906T160000
LOCATION:Ground Floor\, 77 Salamanca Place
END:VEVENT
END:VCALENDAR