BEGIN:VCALENDAR
METHOD:PUBLISH
VERSION:2.0
CALSCALE:GREGORIAN
PRODID:-//NONSGML Sandhills Development\, LLC//NONSGML Sugar Calendar Fe
 eds v3.8.2//EN
X-WR-CALNAME:WORKSHOP : Whiplash | Dark Impro
X-WR-CALDESC:Salamanca Arts Centre
X-WR-TIMEZONE:Australia/Hobart
BEGIN:VTIMEZONE
TZID:Australia/Hobart
BEGIN:STANDARD
TZOFFSETFROM:+1100
TZOFFSETTO:+1000
DTSTART:20250405T160000
TZNAME:AEST
END:STANDARD
END:VTIMEZONE
BEGIN:VTIMEZONE
TZID:Australia/Hobart
BEGIN:STANDARD
TZOFFSETFROM:+1100
TZOFFSETTO:+1000
DTSTART:20250405T160000
TZNAME:AEST
END:STANDARD
END:VTIMEZONE
BEGIN:VEVENT
SUMMARY:WORKSHOP : Whiplash | Dark Impro
DESCRIPTION:A Dark Impro Festival Event | Presented by Protea Impro\n\n\
 n\nWorkshop with Jason Geary and Jaron Why\n\n\n\nDrums are not often as
 sociated with theatrical improv\, Jaron Why and Jason Geary are changing
  that. Whiplash is an explosion of creation. Offers inspire beats\, beat
 s inspire SOLO character and narrative.&nbsp\;\n\n\n\nThis workshop will
  challenge and inspire you to create character in a wildly different way
 . It draws upon character creation and gives you the tools to play those
  characters solo. Taking this workshop will sharpen skills like physical
  character creation\, monologue and narrative structure. It's a workshop
  for any skill level as long as you're willing to give it a red hot go.&
 nbsp\;\n\n\n\nTrigger warning\, drums are loud. You might like to bring 
 earplugs if you are sensitive to loud noises.\n\n\n\nWorkshop :Saturday 
 30 August 2025\, 9:00am - 12:00noon\n\n\n\nCost : $50\n\n\n\n\nBook Now\
 n\n\n\n\n\n\n\nAccessibility\n\n\n\nAccessible Toilet (located in the Co
 urtyard)Registered Assistance Animals welcomeWheelchair Accessible (via 
 the Courtyard)
URL;VALUE=URI:https://www.sac.org.au/events/workshop-whiplash/
UID:urn:uuid:c25227a4-3ca9-4d9b-a6f1-5b9ef6f6614f
STATUS:CONFIRMED
ORGANIZER:
DTSTAMP:20260426T012927Z
DTSTART;TZID=Australia/Hobart:20250830T090000
DTEND;TZID=Australia/Hobart:20250830T120000
LOCATION:Ground Floor\, 77 Salamanca Place
END:VEVENT
END:VCALENDAR