BEGIN:VCALENDAR
METHOD:PUBLISH
VERSION:2.0
CALSCALE:GREGORIAN
PRODID:-//NONSGML Sandhills Development\, LLC//NONSGML Sugar Calendar Fe
 eds v3.8.2//EN
X-WR-CALNAME:WORKSHOP : The Sneaky Improvisor | Dark Impro
X-WR-CALDESC:Salamanca Arts Centre
X-WR-TIMEZONE:Australia/Hobart
BEGIN:VTIMEZONE
TZID:Australia/Hobart
BEGIN:STANDARD
TZOFFSETFROM:+1100
TZOFFSETTO:+1000
DTSTART:20250405T160000
TZNAME:AEST
END:STANDARD
END:VTIMEZONE
BEGIN:VTIMEZONE
TZID:Australia/Hobart
BEGIN:STANDARD
TZOFFSETFROM:+1100
TZOFFSETTO:+1000
DTSTART:20250405T160000
TZNAME:AEST
END:STANDARD
END:VTIMEZONE
BEGIN:VEVENT
SUMMARY:WORKSHOP : The Sneaky Improvisor | Dark Impro
DESCRIPTION:A Dark Impro Festival Event | Presented by Protea Impro\n\n\
 n\nWorkshop with Jim Fishwick\n\n\n\nWhen we improvise\, we’re trying 
 to get on the same page as our scene partner and the audience about what
 ’s going on. But if we just stuff that bare information into our dialo
 gue\, we stop sounding like real people. (“Look\, we’ve been brother
 s for twenty years.” “Hi\, I’m the window cleaner you asked to com
 e over to clean the windows of your house.”)\n\n\n\nThis workshop look
 s at the art of exposition: ways of hiding this information more smoothl
 y in our dialogue and detecting the things that our scene partners may h
 ave hidden in theirs.\n\n\n\nWorkshop :Friday 5 September 2025\, 4:00pm 
 - 7:00pm\n\n\n\nCost : $50\n\n\n\n\nBook Now\n\n\n\n\n\n\n\nAccessibilit
 y\n\n\n\nAccessible Toilet (located in the Courtyard)Registered Assistan
 ce Animals welcomeWheelchair Accessible (via the Courtyard)
URL;VALUE=URI:https://www.sac.org.au/events/workshop-the-sneaky-improvis
 or/
UID:urn:uuid:c25227a4-3ca9-4d9b-a6f1-5b9ef6f6614f
STATUS:CONFIRMED
ORGANIZER:
DTSTAMP:20260425T235939Z
DTSTART;TZID=Australia/Hobart:20250905T160000
DTEND;TZID=Australia/Hobart:20250905T190000
LOCATION:Ground Floor\, 77 Salamanca Place
END:VEVENT
END:VCALENDAR