BEGIN:VCALENDAR
METHOD:PUBLISH
VERSION:2.0
CALSCALE:GREGORIAN
PRODID:-//NONSGML Sandhills Development\, LLC//NONSGML Sugar Calendar Fe
 eds v3.8.2//EN
X-WR-CALNAME:WORKSHOP : The La Ronde | Dark Impro
X-WR-CALDESC:Salamanca Arts Centre
X-WR-TIMEZONE:Australia/Hobart
BEGIN:VTIMEZONE
TZID:Australia/Hobart
BEGIN:STANDARD
TZOFFSETFROM:+1100
TZOFFSETTO:+1000
DTSTART:20250405T160000
TZNAME:AEST
END:STANDARD
END:VTIMEZONE
BEGIN:VTIMEZONE
TZID:Australia/Hobart
BEGIN:STANDARD
TZOFFSETFROM:+1100
TZOFFSETTO:+1000
DTSTART:20250405T160000
TZNAME:AEST
END:STANDARD
END:VTIMEZONE
BEGIN:VEVENT
SUMMARY:WORKSHOP : The La Ronde | Dark Impro
DESCRIPTION:A Dark Impro Festival Event | Presented by Protea Impro\n\n\
 n\nWorkshop with Lindsay Drummond\n\n\n\nIt is time to explore one of th
 e most fun character driven improv formats of all time!&nbsp\;\n\n\n\nTh
 e La Ronde is a character driven improv format that allows us to explore
  the lives and relationships of interesting characters through an easy t
 o perform narrative format. Although the La Ronde is narrative\, it is n
 ot a 'hero's journey'. Unlike other narrative formats it doesn't need to
  be protagonist driven and many subplots can co-exist. The beauty of thi
 s format is the ability to see multiple sides to characters and their re
 lationships and best of all it's simple and easy to learn.\n\n\n\nIn thi
 s workshop we will explore the options of a 'Monoscene' (one location an
 d time) La Ronde and a La Ronde with time and location based edits. We w
 ill learn the skills for both and decide which we prefer as an ensemble\
 , and perform it at the festival! YAY! Let's discover and explore some a
 wesome characters and relationships. See you there!\n\n\n\nWorkshop :Sun
 day 31 August 2025\, 1:00pm - 4:00pm\n\n\n\nCost : $50\n\n\n\n\nBook Now
 \n\n\n\n\n\n\n\nAccessibility\n\n\n\nAccessible Toilet (located in the C
 ourtyard)Registered Assistance Animals welcomeWheelchair Accessible (via
  the Courtyard)
URL;VALUE=URI:https://www.sac.org.au/events/workshop-the-la-ronde/
UID:urn:uuid:c25227a4-3ca9-4d9b-a6f1-5b9ef6f6614f
STATUS:CONFIRMED
ORGANIZER:
DTSTAMP:20260426T013001Z
DTSTART;TZID=Australia/Hobart:20250831T130000
DTEND;TZID=Australia/Hobart:20250831T160000
LOCATION:Ground Floor\, 77 Salamanca Place
END:VEVENT
END:VCALENDAR