BEGIN:VCALENDAR
METHOD:PUBLISH
VERSION:2.0
CALSCALE:GREGORIAN
PRODID:-//NONSGML Sandhills Development\, LLC//NONSGML Sugar Calendar Fe
 eds v3.8.2//EN
X-WR-CALNAME:WORKSHOP : The Stories That Made Us | Dark Impro
X-WR-CALDESC:Salamanca Arts Centre
X-WR-TIMEZONE:Australia/Hobart
BEGIN:VTIMEZONE
TZID:Australia/Hobart
BEGIN:STANDARD
TZOFFSETFROM:+1100
TZOFFSETTO:+1000
DTSTART:20250405T160000
TZNAME:AEST
END:STANDARD
END:VTIMEZONE
BEGIN:VTIMEZONE
TZID:Australia/Hobart
BEGIN:STANDARD
TZOFFSETFROM:+1100
TZOFFSETTO:+1000
DTSTART:20250405T160000
TZNAME:AEST
END:STANDARD
END:VTIMEZONE
BEGIN:VEVENT
SUMMARY:WORKSHOP : The Stories That Made Us | Dark Impro
DESCRIPTION:A Dark Impro Festival Event | Presented by Protea Impro\n\n\
 n\nWorkshop with with Matías Avaca\n\n\n\nIn The Stories That Made Us\,
  participants will explore how cultural and personal stories influence t
 he way we create characters and play scenes. This workshop invites you t
 o reflect on your own background\, traditions\, and ancestral tales\, us
 ing these stories to deepen and enrich your scene work. We’ll explore 
 oral storytelling\, integrating culture\, history\, and heritage into pe
 rformance. Participants will engage in guided exercises and activities t
 hat help bring diverse perspectives into their scenes\, unfolding authen
 tic and meaningful stories. By the end\, you’ll have the tools to tell
  richer\, more connected stories on stage.\n\n\n\nNote: Participants may
  be cast from this workshop to perform in the Bonfire show. Casting is a
 t the discretion of the teacher.\n\n\n\nWorkshop :Saturday 30 August 202
 5\, 1:00pm - 4:00pm\n\n\n\nCost : $50\n\n\n\n\nBook Now\n\n\n\n\n\n\n\nA
 ccessibility\n\n\n\nAccessible Toilet (located in the Courtyard)Register
 ed Assistance Animals welcomeWheelchair Accessible (via the Courtyard)
URL;VALUE=URI:https://www.sac.org.au/events/workshop-stories-that-made-u
 s/
UID:urn:uuid:c25227a4-3ca9-4d9b-a6f1-5b9ef6f6614f
STATUS:CONFIRMED
ORGANIZER:
DTSTAMP:20260426T025517Z
DTSTART;TZID=Australia/Hobart:20250830T130000
DTEND;TZID=Australia/Hobart:20250830T160000
LOCATION:Ground Floor\, 77 Salamanca Place
END:VEVENT
END:VCALENDAR