BEGIN:VCALENDAR
METHOD:PUBLISH
VERSION:2.0
CALSCALE:GREGORIAN
PRODID:-//NONSGML Sandhills Development\, LLC//NONSGML Sugar Calendar Fe
 eds v3.8.2//EN
X-WR-CALNAME:WORKSHOP : Game of Life | Dark Impro
X-WR-CALDESC:Salamanca Arts Centre
X-WR-TIMEZONE:Australia/Hobart
BEGIN:VTIMEZONE
TZID:Australia/Hobart
BEGIN:STANDARD
TZOFFSETFROM:+1100
TZOFFSETTO:+1000
DTSTART:20250405T160000
TZNAME:AEST
END:STANDARD
END:VTIMEZONE
BEGIN:VTIMEZONE
TZID:Australia/Hobart
BEGIN:STANDARD
TZOFFSETFROM:+1100
TZOFFSETTO:+1000
DTSTART:20250405T160000
TZNAME:AEST
END:STANDARD
END:VTIMEZONE
BEGIN:VEVENT
SUMMARY:WORKSHOP : Game of Life | Dark Impro
DESCRIPTION:A Dark Impro Festival Event | Presented by Protea Impro\n\n\
 n\nWorkshop with Matt Armstrong\n\n\n\nGame of Life is new structured lo
 ng form duo show that follows the major life milestones of 3-5 couples: 
 preparing for their first date\; the first date\; the honeymoon\; the 20
 th wedding anniversary\; and finally "where are they now?". Game of Life
  is heavily character driven and uses key elements from UCB’s ‘The D
 ocumentary’ improv show format\, and is more suitable for performers w
 ith a medium to high level of experience.\n\n\n\nGame of Life has a work
 shop to introduce players to the main elements of the show: the 'present
 ational' interview and endowing sideways\, strong maintainable character
 s as the&nbsp\;relationships evolve through the show\, and use of emotio
 nal heightening in character/relationship game over the course of five s
 eparate scenes per couple.\n\n\n\nBecause we’re following the couples 
 through to their 20th anniversary the show format reminds the players to
  remain positive throughout\, helping players more quickly find and play
  the relationship game rather than defaulting to conflict.\n\n\n\nWorksh
 op :Saturday 6 September 2025\, 9:00am - 12:00noon\n\n\n\nCost : $50\n\n
 \n\n\nBook Now\n\n\n\n\n\n\n\nAccessibility\n\n\n\nAccessible Toilet (lo
 cated in the Courtyard)Registered Assistance Animals welcomeWheelchair A
 ccessible (via the Courtyard)
URL;VALUE=URI:https://www.sac.org.au/events/workshop-game-of-life/
UID:urn:uuid:c25227a4-3ca9-4d9b-a6f1-5b9ef6f6614f
STATUS:CONFIRMED
ORGANIZER:
DTSTAMP:20260426T012832Z
DTSTART;TZID=Australia/Hobart:20250906T090000
DTEND;TZID=Australia/Hobart:20250906T120000
LOCATION:Ground Floor\, 77 Salamanca Place
END:VEVENT
END:VCALENDAR