BEGIN:VCALENDAR
METHOD:PUBLISH
VERSION:2.0
CALSCALE:GREGORIAN
PRODID:-//NONSGML Sandhills Development\, LLC//NONSGML Sugar Calendar Fe
 eds v3.8.2//EN
X-WR-CALNAME:White Light
X-WR-CALDESC:Salamanca Arts Centre
X-WR-TIMEZONE:Australia/Hobart
BEGIN:VTIMEZONE
TZID:Australia/Hobart
BEGIN:DAYLIGHT
TZOFFSETFROM:+1000
TZOFFSETTO:+1100
DTSTART:20251004T160000
TZNAME:AEDT
END:DAYLIGHT
END:VTIMEZONE
BEGIN:VTIMEZONE
TZID:Australia/Hobart
BEGIN:DAYLIGHT
TZOFFSETFROM:+1000
TZOFFSETTO:+1100
DTSTART:20251004T160000
TZNAME:AEDT
END:DAYLIGHT
END:VTIMEZONE
BEGIN:VEVENT
SUMMARY:White Light
DESCRIPTION:Hannah Blackmore\n\n\n\nExhibition Dates:Thursday 4 December
  2025 - Sunday 25 January 202610:00an - 4:00pm dailyCLOSED Christmas Day
  + Boxing Day + New Years Eve + New Years Day\n\n\n\nWhite Light is a co
 llection of minimal seascape paintings that explore the quiet beauty of 
 the coast. Soft tones\, open space\, and subtle shifts of light capture 
 the calm\, meditative presence of sea and sky.In White Light\, the sea a
 nd coast are distilled to their purest elements - horizon\, colour\, and
  light. These paintings invite a moment of pause\, focusing on the space
 s in between: the shift of sky over water\, the soft glimmer of light\, 
 the stillness of a horizon line. \n\n\n\nStripped back to essentials\, 
 each work reflects the serenity and openness of the ocean while leaving 
 space for the viewer’s own response.\n\n\n\nRooted in the Tasmanian co
 astline yet universal in their atmosphere\, these seascapes are about mo
 re than place - they are about presence. Minimal in form yet rich in tex
 ture and tone\, they capture fleeting moods of nature and turn them into
  lasting impressions. White Light is an exhibition that speaks to calm\,
  clarity\, and the quiet power of simplicity.\n\n\n\n\n\nAccessibility\n
 \n\n\nAccessible Toilet (located on Level 2 and in The Courtyard)Registe
 red Assistance Animals welcomeWheelchair Accessible (via Lift in The Cou
 rtyard)\n\n\n\n\n\n\n\nHannah Blackmore. White Shore (2025). Acrylic on 
 Canvas. 60cm x 60cm\n\n\n\n\n\n\n\n\n\nHannah Blackmore. White Horizon (
 2025).  Acrylic on Canvas. 100cm x 100cm
URL;VALUE=URI:https://www.sac.org.au/events/white-light/
UID:urn:uuid:19305b99-7359-4119-ae2b-30cab3e0e953
STATUS:CONFIRMED
ORGANIZER:
DTSTAMP:20260419T125126Z
DTSTART;VALUE=DATE:20251204
DTEND;VALUE=DATE:20260125
LOCATION:Salamanca Arts Centre
END:VEVENT
END:VCALENDAR