BEGIN:VCALENDAR
METHOD:PUBLISH
VERSION:2.0
CALSCALE:GREGORIAN
PRODID:-//NONSGML Sandhills Development\, LLC//NONSGML Sugar Calendar Fe
 eds v3.8.2//EN
X-WR-CALNAME:Under Milk Wood by Dylan Thomas
X-WR-CALDESC:Salamanca Arts Centre
X-WR-TIMEZONE:Australia/Hobart
BEGIN:VTIMEZONE
TZID:Australia/Hobart
BEGIN:STANDARD
TZOFFSETFROM:+1100
TZOFFSETTO:+1000
DTSTART:20250405T160000
TZNAME:AEST
END:STANDARD
END:VTIMEZONE
BEGIN:VTIMEZONE
TZID:Australia/Hobart
BEGIN:STANDARD
TZOFFSETFROM:+1100
TZOFFSETTO:+1000
DTSTART:20250405T160000
TZNAME:AEST
END:STANDARD
END:VTIMEZONE
BEGIN:VEVENT
SUMMARY:Under Milk Wood by Dylan Thomas
DESCRIPTION:Presented by O'Grady Drama Hobart On Cue Ensemble\n\n\n\nOne
  spring day. A small village of eccentric characters.\n\n\n\nPoetry. Gos
 sip. Love Letters. Ghosts.\n\n\n\nOver the course of one spring day\, we
  follow the lives of the eccentric and hilarious residents of a small We
 lsh village\, learning of their loves\, regrets\, opinions and plots. Me
 et dozens of characters including Mrs Ogmore-Pritchard\, relentlessly na
 gging the ghosts of her two dead husbands\; the nostalgic Captain Cat\, 
 reliving his sea-faring days\; Willy Nilly the postie\, cheerfully readi
 ng everyone’s mail\; the mad Lord Cutglass\, obsessed with his 66 cloc
 ks\; and Mr Pugh\, who secretly dreams of getting rid of the shrewish Mr
 s Pugh.&nbsp\;\n\n\n\nA British Classic\, full of poetry\, gossip\, ghos
 ts\, love letters and laughs\, Under Milk Wood has been delighting audie
 nces for over 70 years. Often considered to be the crowning achievement 
 of the poet Dylan Thomas\, people of all ages are invited to experience 
 some of the best-loved characters in British literature.\n\n\n\nSeason :
  Thursday 18 - Saturday 20 September 2025\n\n\n\nPerformances : Thursday
  18 September 2025 @ 7:00pmFriday 19 September 2025 @ 8:00pmSaturday 20 
 September 2025 @ 2:30pm (MATINEE)\n\n\n\nDoors Open 20 minutes prior to 
 performance\n\n\n\nDuration: 2 hours&nbsp\;(includes Interval)\n\n\n\nTi
 ckets :Adult $30 (+BF)Concession (Seniors/Health Care Card Holders) $25 
 (+BF)Student $20 (+BF)\n\n\n\n\nBook Now\n\n\n\n\n\n\n\nAccessibility\n\
 n\n\nAccessible ToiletRegistered Assistance Animals welcomeWheelchair Ac
 cessibleCompanion Card
URL;VALUE=URI:https://www.sac.org.au/events/under-milk-wood/
UID:urn:uuid:c25227a4-3ca9-4d9b-a6f1-5b9ef6f6614f
STATUS:CONFIRMED
ORGANIZER:
DTSTAMP:20260425T235327Z
DTSTART;VALUE=DATE:20250918
DTEND;VALUE=DATE:20250920
LOCATION:Ground Floor\, 77 Salamanca Place
END:VEVENT
END:VCALENDAR