BEGIN:VCALENDAR
METHOD:PUBLISH
VERSION:2.0
CALSCALE:GREGORIAN
PRODID:-//NONSGML Sandhills Development\, LLC//NONSGML Sugar Calendar Fe
 eds v3.8.2//EN
X-WR-CALNAME:Saca La Mois DJ | Tropiques Social Club
X-WR-CALDESC:Salamanca Arts Centre
X-WR-TIMEZONE:Australia/Hobart
BEGIN:VTIMEZONE
TZID:Australia/Hobart
BEGIN:DAYLIGHT
TZOFFSETFROM:+1000
TZOFFSETTO:+1100
DTSTART:20251004T160000
TZNAME:AEDT
END:DAYLIGHT
END:VTIMEZONE
BEGIN:VTIMEZONE
TZID:Australia/Hobart
BEGIN:DAYLIGHT
TZOFFSETFROM:+1000
TZOFFSETTO:+1100
DTSTART:20251004T160000
TZNAME:AEDT
END:DAYLIGHT
END:VTIMEZONE
BEGIN:VEVENT
SUMMARY:Saca La Mois DJ | Tropiques Social Club
DESCRIPTION:Presented by Cumbia Massive and The Movement\n\n\n\nEvent : 
 Friday 24 October 2025Doors Open 7:30pm | Music from 8:00pm - 10:30pm\n\
 n\n\nSaca La Mois DJ | Tropiques Social Club\, an evening of vinyl-only 
 music from the equatorial band of the planet - Africa\, South America\, 
 Southeast Asia\, the Caribbean &amp\; beyond.\n\n\n\nStep into the world
  of the Tropiques Social Club\, an immersive celebration of music from t
 he equatorial band of the planet — spanning the rich soundscapes of Af
 rica\, South America\, Southeast Asia\, the Caribbean\, and beyond.\n\n\
 n\nWhat to expect DJ'd vinyl music\, bar\, dancing\, impeccable vibes\n\
 n\n\nSACA LA MOIS DJ!! (a.k.a. Moses Iten) is a Tassie-based DJ who has 
 toured all over Australia and the world as a Cumbia and Bass specialist\
 , playing tropical music from his vast crates of vinyl and digital dubpl
 ates.\n\n\n\nThe Saca La Mois DJ!! mission is to keep learning and shari
 ng music from all over the globe\, exposing Hobart to unreleased and und
 efined new sounds sourced straight from producer to you on the dancefloo
 r.\n\n\n\nTICKETS :&nbsp\;Full Price Entry $20 (+BF)Concession Price Ent
 ry $15 (+BF)\n\n\n\n*Limited tickets available on the door.&nbsp\;\n\n\n
 \n\nBook Now\n\n\n\n\n\n\nAccessibility\n\n\n\nAccessible Toilet (next t
 o Lift Platform on Level 2)Registered Assistance Animals welcomeWheelcha
 ir Accessible (via the Lift in the Courtyard)Companion Card
URL;VALUE=URI:https://www.sac.org.au/events/tropiques-social-club-241020
 25/
UID:urn:uuid:54c6f0c3-1538-4a9b-9092-ff5e9358d0b3
STATUS:CONFIRMED
ORGANIZER:
DTSTAMP:20260425T222136Z
DTSTART;TZID=Australia/Hobart:20251024T193000
DTEND;TZID=Australia/Hobart:20251024T223000
LOCATION:Level 2\, 65b Woobys Lane
END:VEVENT
END:VCALENDAR