BEGIN:VCALENDAR
METHOD:PUBLISH
VERSION:2.0
CALSCALE:GREGORIAN
PRODID:-//NONSGML Sandhills Development\, LLC//NONSGML Sugar Calendar Fe
 eds v3.8.2//EN
X-WR-CALNAME:Tropiques Social Club |Saca La Mois DJ
X-WR-CALDESC:Salamanca Arts Centre
X-WR-TIMEZONE:Australia/Hobart
BEGIN:VTIMEZONE
TZID:Australia/Hobart
BEGIN:DAYLIGHT
TZOFFSETFROM:+1000
TZOFFSETTO:+1100
DTSTART:20251004T160000
TZNAME:AEDT
END:DAYLIGHT
END:VTIMEZONE
BEGIN:VTIMEZONE
TZID:Australia/Hobart
BEGIN:DAYLIGHT
TZOFFSETFROM:+1000
TZOFFSETTO:+1100
DTSTART:20251004T160000
TZNAME:AEDT
END:DAYLIGHT
END:VTIMEZONE
BEGIN:VEVENT
SUMMARY:Tropiques Social Club |Saca La Mois DJ
DESCRIPTION:Presented by Cumbia Massive and The Movement\n\n\n\nEvent : 
 Friday 16 January 20267:30pm - 10:30pm\n\n\n\nStep into the world of the
  Tropiques Social Club\, an immersive celebration of music from the equa
 torial band of the planet — spanning the rich soundscapes of Africa\, 
 South America\, Southeast Asia\, the Caribbean\, and beyond.\n\n\n\nWhat
  to expect - DJ'd vinyl music\, bar\, dancing\, impeccable vibes\n\n\n\n
 SACA LA MOIS DJ!! (a.k.a. Moses Iten) is a Tassie-based DJ who has toure
 d all over Australia and the world as a Cumbia and Bass specialist\, pla
 ying tropical music from his vast crates of vinyl and digital dubplates.
 \n\n\n\nThe Saca La Mois DJ!! mission is to keep learning and sharing mu
 sic from all over the globe\, exposing Hobart to unreleased and undefine
 d new sounds sourced straight from producer to you on the dancefloor.\n\
 n\n\nTICKETS :&nbsp\;Full Price Entry $20 (+BF)Concession Price Entry $1
 5 (+BF)\n\n\n\n*Limited tickets available on the door.&nbsp\;\n\n\n\nBoo
 k Now\n\n\n\nEvent by Cumbia Massive + The Movement &amp\; Proudly suppo
 rted by Salamanca Arts Centre + Latin American Cultural Association of T
 asmania\n\n\n\n\n\nAccessibility\n\n\n\nAccessible Toilet (next to Lift 
 Platform on Level 2)Registered Assistance Animals welcomeWheelchair Acce
 ssible (via the Lift in the Courtyard)Companion Card
URL;VALUE=URI:https://www.sac.org.au/events/tropiques-social-club-2026/
UID:urn:uuid:54c6f0c3-1538-4a9b-9092-ff5e9358d0b3
STATUS:CONFIRMED
ORGANIZER:
DTSTAMP:20260425T222129Z
DTSTART;TZID=Australia/Hobart:20260116T193000
DTEND;TZID=Australia/Hobart:20260116T223000
LOCATION:Level 2\, 65b Woobys Lane
END:VEVENT
END:VCALENDAR