BEGIN:VCALENDAR
METHOD:PUBLISH
VERSION:2.0
CALSCALE:GREGORIAN
PRODID:-//NONSGML Sandhills Development\, LLC//NONSGML Sugar Calendar Fe
 eds v3.8.2//EN
X-WR-CALNAME:Rennie Pearson : Traditional Celtic Music
X-WR-CALDESC:Salamanca Arts Centre
X-WR-TIMEZONE:Australia/Hobart
BEGIN:VTIMEZONE
TZID:Australia/Hobart
BEGIN:DAYLIGHT
TZOFFSETFROM:+1000
TZOFFSETTO:+1100
DTSTART:20251004T160000
TZNAME:AEDT
END:DAYLIGHT
END:VTIMEZONE
BEGIN:VTIMEZONE
TZID:Australia/Hobart
BEGIN:DAYLIGHT
TZOFFSETFROM:+1000
TZOFFSETTO:+1100
DTSTART:20251004T160000
TZNAME:AEDT
END:DAYLIGHT
END:VTIMEZONE
BEGIN:VEVENT
SUMMARY:Rennie Pearson : Traditional Celtic Music
DESCRIPTION:Rennie Pearson + Kushla Kozeluh (NZ)\n\n\n\nPerformance :Wed
 nesday 3 December 2025Doors Open 7:00pm | Music from 7:30pm\n\n\n\nTunes
 \, songs and stories from Ireland\, Scotland and Maritime Canada\n\n\n\n
 Rennie Pearson’s music is deeply rooted in the Celtic traditions of Ir
 eland\, Scotland\, and Maritime Canada\, blending centuries-old melodies
  with fresh energy and artistry. Whether he’s performing on the wooden
  flute\, guitar\, Irish tin whistles\, bodhrán\, fiddle\, or with his v
 oice\, his music takes audiences on a journey through history and cultur
 e.\n\n\n\nHis shows feature soaring flute melodies\, captivating songs\,
  foot-stomping jigs and reels\, and heart-wrenching slow airs. Each perf
 ormance is a carefully crafted tapestry of tunes\, songs\, and storytell
 ing\, designed to engage and transport listeners to another time and pla
 ce. Rennie’s ability to transition seamlessly between high-energy tune
 s and emotive ballads keeps audiences on the edge of their seats\, makin
 g each performance dynamic and unforgettable.\n\n\n\nRennie will be join
 ed by guitarist and singer Kushla Kozeluh from Golden Bay\, New Zealand.
  Her rippling fingerstyle accompaniment\, driving rhythms\, and ethereal
  voice add depth and lift to the music\, creating a rich\, vibrant sound
  that perfectly complements Rennie’s playing.\n\n\n\nTICKETS : Genera
 l Admission $25 (+BF) \n\n\n\nDoor Sales $30 (cash preferred)\n\n\n\n\nB
 ook Now\n\n\n\n\n\n\nAccessibility\n\n\n\nAccessible Toilet (next to Lif
 t Platform on Level 2)Registered Assistance Animals welcomeWheelchair Ac
 cessible (via the Lift in the Courtyard)Companion Card
URL;VALUE=URI:https://www.sac.org.au/events/traditional-celtic-music/
UID:urn:uuid:54c6f0c3-1538-4a9b-9092-ff5e9358d0b3
STATUS:CONFIRMED
ORGANIZER:
DTSTAMP:20260426T000237Z
DTSTART;TZID=Australia/Hobart:20251203T190000
DTEND;TZID=Australia/Hobart:20251203T211500
LOCATION:Level 2\, 65b Woobys Lane
END:VEVENT
END:VCALENDAR