BEGIN:VCALENDAR
METHOD:PUBLISH
VERSION:2.0
CALSCALE:GREGORIAN
PRODID:-//NONSGML Sandhills Development\, LLC//NONSGML Sugar Calendar Fe
 eds v3.8.2//EN
X-WR-CALNAME:Tide Inside
X-WR-CALDESC:Salamanca Arts Centre
X-WR-TIMEZONE:Australia/Hobart
BEGIN:VTIMEZONE
TZID:Australia/Hobart
BEGIN:STANDARD
TZOFFSETFROM:+1100
TZOFFSETTO:+1000
DTSTART:20250405T160000
TZNAME:AEST
END:STANDARD
END:VTIMEZONE
BEGIN:VTIMEZONE
TZID:Australia/Hobart
BEGIN:STANDARD
TZOFFSETFROM:+1100
TZOFFSETTO:+1000
DTSTART:20250405T160000
TZNAME:AEST
END:STANDARD
END:VTIMEZONE
BEGIN:VEVENT
SUMMARY:Tide Inside
DESCRIPTION:Harriet Links\n\n\n\nOpening Event :Friday 29 August 2025\, 
 6:00pm – 8:00pm\n\n\n\nOpening Hours:10:00am – 5:00pm daily\n\n\n\nT
 ide Inside by Harriet Links explores childhood memories of fishing on
  Tasmania’s Derwent River\, contrasting modest family homes with momen
 ts of connection by the water. Through native fish and textured interior
 s\, the exhibition reveals the shifting tides of family\, memory\, and t
 he quiet currents that shape our lives.\n\n\n\nTide Inside&nbsp\;offers 
 a thoughtful exploration of childhood memories shaped by Tasmania’s la
 ndscapes and domestic environments. The exhibition contrasts the modest\
 , often rented homes of early life with the quiet\, open moments spent f
 ishing on the Derwent River\, where connection and presence emerged.\n\n
 \n\nThe domestic spaces in the work are characterised by worn tiles and 
 textured surfaces—elements that reflect everyday family homes rather t
 han idealised settings. These interiors suggest emotional distance and q
 uiet tension\, capturing the complexities of family relationships. In co
 ntrast\, the fishing trips along the Derwent River held moments of atten
 tiveness\, learning\, and connection. The river serves as a space of fre
 edom and calm amid domestic challenges.\n\n\n\nHarriet Links&nbsp\;portr
 ays native Tasmanian fish swimming across patterned tile backgrounds\, s
 ymbolising the interplay between memory\, place\, and emotion. The fish 
 signify the shared lessons and love of those fishing moments\, while the
  tiles evoke the textured domestic environments that framed early life.\
 n\n\n\nThe exhibition reflects the shifting tides of human relationships
 —the ebb and flow of connection and distance\, tenderness and tension.
  Through layered imagery and sensory detail\, Links captures the nuanced
  balance of love and absence experienced throughout childhood.\n\n\n\nTi
 de Inside is both an act of reflection and healing\, holding space for t
 he complexities of family bonds. It contrasts emotional distance within 
 the home with moments of presence by the river\, using the openness of t
 he water against the rigidity of domestic spaces to explore themes of fr
 eedom and possibility.\n\n\n\nRooted in Tasmania’s natural and cultura
 l landscape\, Tide Inside connects personal history to universal themes 
 of family\, identity\, and place. Through these works\, Harriet Links in
 vites viewers to consider their own inner tides—the unseen currents sh
 aping who we are and how we relate.\n\n\n\n\n\nAccessibility\n\n\n\nAcce
 ssible ToiletRegistered Assistance Animals welcomeWheelchair AccessibleC
 ompanion Card
URL;VALUE=URI:https://www.sac.org.au/events/tide-inside/
UID:urn:uuid:dd34770e-1f0f-4980-8e23-040c61a31339
STATUS:CONFIRMED
ORGANIZER:
DTSTAMP:20260421T101955Z
DTSTART;VALUE=DATE:20250827
DTEND;VALUE=DATE:20250901
LOCATION:67 Salamanca Place
END:VEVENT
END:VCALENDAR