BEGIN:VCALENDAR
METHOD:PUBLISH
VERSION:2.0
CALSCALE:GREGORIAN
PRODID:-//NONSGML Sandhills Development\, LLC//NONSGML Sugar Calendar Fe
 eds v3.8.2//EN
X-WR-CALNAME:The Spider and the Butterfly | The Two Brothers
X-WR-CALDESC:Salamanca Arts Centre
X-WR-TIMEZONE:Australia/Hobart
BEGIN:VTIMEZONE
TZID:Australia/Hobart
BEGIN:DAYLIGHT
TZOFFSETFROM:+1000
TZOFFSETTO:+1100
DTSTART:20251004T160000
TZNAME:AEDT
END:DAYLIGHT
END:VTIMEZONE
BEGIN:VTIMEZONE
TZID:Australia/Hobart
BEGIN:DAYLIGHT
TZOFFSETFROM:+1000
TZOFFSETTO:+1100
DTSTART:20251004T160000
TZNAME:AEDT
END:DAYLIGHT
END:VTIMEZONE
BEGIN:VEVENT
SUMMARY:The Spider and the Butterfly | The Two Brothers
DESCRIPTION:Presented by Grail Quest\n\n\n\nPerformance:Sunday 21 Decemb
 er 2025Doors Open 2:10pm | Performances from 2:30pm - 4:30pm\n\n\n\nDura
 tion : 120 minutes (includes Interval)\n\n\n\nGrail Quest presents an af
 ternoon of folktale\, song and comedy.\n\n\n\nThe Spider and the Butterf
 lyBy David Shapiro - adapted from a Persian Manichean legend.\n\n\n\nThe
  Two Brothers A folk comedy\n\n\n\nTickets (all General Admission) :Adul
 ts $25Concessions: $15Children: $10\n\n\n\n*Suitable for children 7 year
 s and up\n\n\n\nPlease email or text Gerry to reserve tickets :Gerryj.gr
 ail@gmail.com0406 788 050\n\n\n\nTickets are also available at the Door.
 \n\n\n\n\nBook Now\n\n\n\n\n\n\nAccessibility\n\n\n\nAccessible Toilet (
 located in&nbsp\;the Courtyard)Registered Assistance Animals welcomeWhee
 lchair Accessible (via&nbsp\;the Courtyard)
URL;VALUE=URI:https://www.sac.org.au/events/the-spider-and-the-butterfly
 -the-two-brothers/
UID:urn:uuid:33bbc7ed-c474-48ca-9cda-635240ec6d75
STATUS:CONFIRMED
ORGANIZER:
DTSTAMP:20260425T235035Z
DTSTART;TZID=Australia/Hobart:20251221T143000
DTEND;TZID=Australia/Hobart:20251221T163000
LOCATION:Ground Floor\, 77 Salamanca Place
END:VEVENT
END:VCALENDAR