BEGIN:VCALENDAR
METHOD:PUBLISH
VERSION:2.0
CALSCALE:GREGORIAN
PRODID:-//NONSGML Sandhills Development\, LLC//NONSGML Sugar Calendar Fe
 eds v3.8.2//EN
X-WR-CALNAME:The Passage and other stories
X-WR-CALDESC:Salamanca Arts Centre
X-WR-TIMEZONE:Australia/Hobart
BEGIN:VTIMEZONE
TZID:Australia/Hobart
BEGIN:DAYLIGHT
TZOFFSETFROM:+1000
TZOFFSETTO:+1100
DTSTART:20251004T160000
TZNAME:AEDT
END:DAYLIGHT
END:VTIMEZONE
BEGIN:VTIMEZONE
TZID:Australia/Hobart
BEGIN:DAYLIGHT
TZOFFSETFROM:+1000
TZOFFSETTO:+1100
DTSTART:20251004T160000
TZNAME:AEDT
END:DAYLIGHT
END:VTIMEZONE
BEGIN:VEVENT
SUMMARY:The Passage and other stories
DESCRIPTION:By Sarah Rhodes\n\n\n\nThe Passage (2025) is a poetic short 
 film by Sarah Rhodes that drifts between underworld and overworld\, expl
 oring the relationship between the human subconscious and the landscapes
  we inhabit\, presented as part of a collection of art films on connecti
 on and belonging.\n\n\n\nThe Passage (2025\, 7 min) is a short film that
  moves fluidly between underworld and overworld\, tracing a journey thro
 ugh the porous boundary between inner and outer worlds. By drawing a par
 allel between the subterranean and the subconscious\, Sarah Rhodes explo
 res the deep\, inseparable connection between people and place.\n\n\n\nD
 aytime Screening Wednesday 3 &amp\; Thursday 4 December 202511:00am - 6:
 00pm dailyThe Passage will screen on a rolling loop at the Peacock Theat
 re FREE ENTRY\n\n\n\n\n\n\n\nFilm Screenings + Panel TalkThursday 4 Dece
 mber 2025Doors Open 5:30pm | Event from 6:00pm - 9:00pm\n\n\n\nDuration 
 : 90 minutes&nbsp\;(includes Interval)\n\n\n\nAn evening Film Screening 
 + Panel Talk featuring a curated program of films will explore the theme
  of connection to place\, followed by a panel discussion with the artist
 s.Panel talk facilitated by TMAG Senior Art Curator Mary Knights\n\n\n\n
 Featured artists include: David Stephenson\, Anne Zahalka\, David Noonan
 \, Izabela Pluta\, Sarah Rhodes\, Troy Ruffels\, Ellen Dahl\, Dave Carsw
 ell and Martyn Jolly.\n\n\n\nFREE EVENT but please RSVP to reserve your 
 seat.&nbsp\;\n\n\n\n\nRSVP\n\n\n\n\n\n\n\n\nSupported by Arts Tasmania\n
 \n\n\n\n\nAccessibility\n\n\n\nAccessible Toilet (located in the Courtya
 rd)Registered Assistance Animals welcomeWheelchair Accessible (via stage
  doors in the Courtyard)Film Screening is Low Sensory\n\n\n\n\n\n\n\nSar
 ah Rhodes. (2025).Still from The Passage (7:00mins)\n\n\n\n\n\nSarah Rho
 des. (2025).Still from The Passage (7:00mins)
URL;VALUE=URI:https://www.sac.org.au/events/the-passage/
UID:urn:uuid:54effef7-2725-422d-984b-edd61a4d5e6e
STATUS:CONFIRMED
ORGANIZER:
DTSTAMP:20260419T125059Z
DTSTART;VALUE=DATE:20251203
DTEND;VALUE=DATE:20251204
LOCATION:Ground Floor\, 77 Salamanca Place
END:VEVENT
END:VCALENDAR