BEGIN:VCALENDAR
METHOD:PUBLISH
VERSION:2.0
CALSCALE:GREGORIAN
PRODID:-//NONSGML Sandhills Development\, LLC//NONSGML Sugar Calendar Fe
 eds v3.8.2//EN
X-WR-CALNAME:The Beatles Show presents Songs and Stories
X-WR-CALDESC:Salamanca Arts Centre
X-WR-TIMEZONE:Australia/Hobart
BEGIN:VTIMEZONE
TZID:Australia/Hobart
BEGIN:STANDARD
TZOFFSETFROM:+1100
TZOFFSETTO:+1000
DTSTART:20250405T160000
TZNAME:AEST
END:STANDARD
END:VTIMEZONE
BEGIN:VTIMEZONE
TZID:Australia/Hobart
BEGIN:STANDARD
TZOFFSETFROM:+1100
TZOFFSETTO:+1000
DTSTART:20250405T160000
TZNAME:AEST
END:STANDARD
END:VTIMEZONE
BEGIN:VEVENT
SUMMARY:The Beatles Show presents Songs and Stories
DESCRIPTION:Presented by The Beatles Show : Tom Wolfe &amp\; Scott Targe
 tt\n\n\n\nPerformance:Thursday 25 September 2025Doors Open 7:30pm | Perf
 ormance from 8:00pm\n\n\n\nDuration : 90 minutes\n\n\n\nExperience The B
 eatles like never before. Tom Wolfe &amp\; Scott Targett strip it back w
 ith rich harmonies\, heartfelt stories\, and acoustic renditions of the 
 Fab Four’s timeless songs. A soulful\, intimate tribute to the music t
 hat changed the world.\n\n\n\nJoin Tom Wolfe and Scott Targett for an in
 timate\, acoustic tribute to the timeless music of The Beatles. Stripped
  back to their raw essence\, these songs are brought to life with rich h
 armonies\, heartfelt storytelling\, and a deep respect for the songwriti
 ng genius of Lennon\, McCartney\, and Harrison.\n\n\n\nHear the stories 
 behind the music—the inspiration\, the influences\, and the moments th
 at shaped a generation.\n\n\n\nNo strangers to the stage\, Tom and Scott
  are members of The Wolfe Brothers\, one of Australia’s most celebrate
 d country acts. Their Beatles Show continues to sell out venues across T
 asmania\, and this show offers a fresh\, soul-stirring take on the great
 est catalogue in popular music.\n\n\n\nTickets:Adult $30 (+BF)SAC Associ
 ate Members Ticket $28 (+BF)Concession + U16 $25 (+BF)\n\n\n\n\nBook Now
 \n\n\n\n\n\n\nAccessibility\n\n\n\nAccessible Toilet (located in&nbsp\;t
 he Courtyard)Registered Assistance Animals welcomeWheelchair Accessible 
 (via&nbsp\;the Courtyard)
URL;VALUE=URI:https://www.sac.org.au/events/the-beatles-show/
UID:urn:uuid:33bbc7ed-c474-48ca-9cda-635240ec6d75
STATUS:CONFIRMED
ORGANIZER:
DTSTAMP:20260425T222008Z
DTSTART;TZID=Australia/Hobart:20250925T193000
DTEND;TZID=Australia/Hobart:20250925T213000
END:VEVENT
END:VCALENDAR