BEGIN:VCALENDAR
METHOD:PUBLISH
VERSION:2.0
CALSCALE:GREGORIAN
PRODID:-//NONSGML Sandhills Development\, LLC//NONSGML Sugar Calendar Fe
 eds v3.8.2//EN
X-WR-CALNAME:The Australian Barbra Streisand Show
X-WR-CALDESC:Salamanca Arts Centre
X-WR-TIMEZONE:Australia/Hobart
BEGIN:VTIMEZONE
TZID:Australia/Hobart
BEGIN:DAYLIGHT
TZOFFSETFROM:+1000
TZOFFSETTO:+1100
DTSTART:20251004T160000
TZNAME:AEDT
END:DAYLIGHT
END:VTIMEZONE
BEGIN:VTIMEZONE
TZID:Australia/Hobart
BEGIN:DAYLIGHT
TZOFFSETFROM:+1000
TZOFFSETTO:+1100
DTSTART:20251004T160000
TZNAME:AEDT
END:DAYLIGHT
END:VTIMEZONE
BEGIN:VEVENT
SUMMARY:The Australian Barbra Streisand Show
DESCRIPTION:Presented by Rachel Grace Music\n\n\n\nPerformance : Saturda
 y 11 October 2025Doors Open 6:00pm | Performance from 7:00pm - 10:00pm\n
 \n\n\nDuration : 90 Minutes (includes interval)\n\n\n\nThis is more than
  a tribute – it’s a heartfelt love letter to Streisand’s iconic ca
 reer.\n\n\n\nExperience the magic of Barbra Streisand’s legendary care
 er with Rachael Grace\, as she brings to life the timeless hits that hav
 e defined generations.\n\n\n\nThis stunning production\, featuring music
 al direction by Green Room Award-winning John Thorn\, takes audiences on
  a musical journey through Streisand’s iconic songs – from emotional
  ballads to disco classics. Rachael’s powerful voice\, unique interpre
 tation and world class band make this show more than just a tribute – 
 it’s a heartfelt love letter to one of the greatest voices in music hi
 story.\n\n\n\nHailed ‘as divine as Streisand herself’ by Glam Adelai
 de\, this unforgettable performance blends musical genres with an except
 ional ensemble to create a truly spellbinding experience.\n\n\n\nTICKETS
  : General Admission $49 (+BF)\n\n\n\n\nBook Now\n\n\n\n\n\n\nAccessibil
 ity\n\n\n\nAccessible Toilet (next to Lift Platform on Level 2)Registere
 d Assistance Animals welcomeWheelchair Accessible (via the Lift in the C
 ourtyard)Companion Card
URL;VALUE=URI:https://www.sac.org.au/events/the-australian-barbara-strei
 sand-show/
UID:urn:uuid:54c6f0c3-1538-4a9b-9092-ff5e9358d0b3
STATUS:CONFIRMED
ORGANIZER:
DTSTAMP:20260425T222128Z
DTSTART;TZID=Australia/Hobart:20251011T190000
DTEND;TZID=Australia/Hobart:20251011T220000
LOCATION:Level 2\, 65b Woobys Lane
END:VEVENT
END:VCALENDAR