BEGIN:VCALENDAR
METHOD:PUBLISH
VERSION:2.0
CALSCALE:GREGORIAN
PRODID:-//NONSGML Sandhills Development\, LLC//NONSGML Sugar Calendar Fe
 eds v3.8.2//EN
X-WR-CALNAME:Songs of Summer
X-WR-CALDESC:Salamanca Arts Centre
X-WR-TIMEZONE:Australia/Hobart
BEGIN:VTIMEZONE
TZID:Australia/Hobart
BEGIN:DAYLIGHT
TZOFFSETFROM:+1000
TZOFFSETTO:+1100
DTSTART:20251004T160000
TZNAME:AEDT
END:DAYLIGHT
END:VTIMEZONE
BEGIN:VTIMEZONE
TZID:Australia/Hobart
BEGIN:DAYLIGHT
TZOFFSETFROM:+1000
TZOFFSETTO:+1100
DTSTART:20251004T160000
TZNAME:AEDT
END:DAYLIGHT
END:VTIMEZONE
BEGIN:VEVENT
SUMMARY:Songs of Summer
DESCRIPTION:Presented by ThylaSing\n\n\n\nPerformance:Monday 8 December 
 2025Doors Open 6:40pm | Performance from 7:00pm\n\n\n\nDuration : 90 min
 utes (no Interval)\n\n\n\nThylaSing presents a concert of divine a cappe
 lla harmonies featuring the songs of Josh Pyke\, Hozier\, Lana Del Ray\,
  Sting and more.\n\n\n\nLitha / Midsummer: A day to celebrate the power 
 and abundance of the sun\, a symbol of light\, warmth\, and growth. A ti
 me of hot sticky days\, of short starry nights\, and of expansion and fr
 eedom. Join us for a celebration of summer\, love\, and longing: a Thyla
 Sing end of year concert not to be missed.\n\n\n\nAbout our guest artist
 : Hannah Price is a live vocal looper from nipaluna/Hobart. Drawing insp
 iration from the ethereal beauty of choral music\, the raw emotion in so
 ul music\, and a sprinkle of everything in-between\, her loops are layer
 ed with thick harmonies\, experimental vocals\, and compelling storytell
 ing.\n\n\n\nTickets:Adult $29 Concession $22\n\n\n\n\nBook Now\n\n\n\n\
 n\n\nAccessibility\n\n\n\nAccessible Toilet (located in&nbsp\;the Courty
 ard)Registered Assistance Animals welcomeWheelchair Accessible (via&nbsp
 \;the Courtyard)
URL;VALUE=URI:https://www.sac.org.au/events/songs-of-summer/
UID:urn:uuid:33bbc7ed-c474-48ca-9cda-635240ec6d75
STATUS:CONFIRMED
ORGANIZER:
DTSTAMP:20260426T000254Z
DTSTART;TZID=Australia/Hobart:20251208T190000
DTEND;TZID=Australia/Hobart:20251208T203000
LOCATION:Ground Floor\, 77 Salamanca Place
END:VEVENT
END:VCALENDAR