BEGIN:VCALENDAR
METHOD:PUBLISH
VERSION:2.0
CALSCALE:GREGORIAN
PRODID:-//NONSGML Sandhills Development\, LLC//NONSGML Sugar Calendar Fe
 eds v3.8.2//EN
X-WR-CALNAME:Global Sounds - Son del Sur
X-WR-CALDESC:Salamanca Arts Centre
X-WR-TIMEZONE:Australia/Hobart
BEGIN:VTIMEZONE
TZID:Australia/Hobart
BEGIN:DAYLIGHT
TZOFFSETFROM:+1000
TZOFFSETTO:+1100
DTSTART:20251004T160000
TZNAME:AEDT
END:DAYLIGHT
END:VTIMEZONE
BEGIN:VTIMEZONE
TZID:Australia/Hobart
BEGIN:DAYLIGHT
TZOFFSETFROM:+1000
TZOFFSETTO:+1100
DTSTART:20251004T160000
TZNAME:AEDT
END:DAYLIGHT
END:VTIMEZONE
BEGIN:VEVENT
SUMMARY:Global Sounds - Son del Sur
DESCRIPTION:Son del Sur\n\n\n\nWelcome to the&nbsp\;Global Sounds&nbsp\;
 Salamanca&nbsp\;series\, live in the Founders Room on Woobys Lane.\n\n\n
 \nFriday 9th January 2026Doors &amp\; bar open at 7pmMusic from 7:30pm&n
 bsp\;\n\n\n\nThe Founders Room on Woobys LaneSalamanca Arts Centre\n\n\n
 \nBook Now\n\n\n\n~~~~~\n\n\n\nSon del Sur\,&nbsp\;Tasmania's own 10-pie
 ce salsa band has built a strong reputation\, performing at Tasmania's m
 ost popular venues and major music festivals and events\, showcasing the
 ir vibrant sound across the state.&nbsp\;&nbsp\;Son del Sur draws inspir
 ation from the giants of salsa\; think Celia Cruz\, the rhythmic genius 
 of Tito Puente\, and the brilliance of Ruben Blades\, while also adding 
 the legendary beats of Buena Vista Social Club.&nbsp\; This influence ha
 s become the path the band has decided to follow.&nbsp\;\n\n\n\nWith Son
  del Sur\, you'll dive into the energetic salsa spirit of the barrio fro
 m the '70s and '80s.&nbsp\; The band brings a blend of salsa from the vi
 brant streets of New York\, Puerto Rico\, and Cuba\, adding their own ar
 rangements and original beats to give their salsa and Latin jazz a uniqu
 e 'Tassie' flavour. Son del Sur is made up of local musicians.&nbsp\;\n\
 n\n\nIts members are:\n\n\n\nFranco Solis:&nbsp\;The band leader\, percu
 ssionist\, and main vocalist from Chile\, is well-known for his long mus
 ic career and collaborations with the local Tassie music scene.\n\n\n\nE
 lias Solis:&nbsp\;Local Latin percussionist from Chile\, Elias grew up i
 n a musical family and studied in Chile\, Peru\, Brazil\, and Cuba\, per
 forming Latin music\, jazz\, and contemporary styles.\n\n\n\nLea Palacio
 s:&nbsp\;The band's newest lead singer from Colombia\, she's worked with
  diverse music groups\, from Jazz to Rock and Latin fusion\, blending st
 yles with her deep\, expressive voice.\n\n\n\nKonrad Park:&nbsp\;The ban
 dâ€™s dynamite timbal player\, is known for his long career as a percuss
 ionist in Tasmania. A brilliant drummer and teacher\, he has inspired ma
 ny with his skill and dedication.\n\n\n\nKelly Ottaway:&nbsp\;Adds flavo
 ur to the bandâ€™s groove with his piano\, montunos\, and arrangements. 
 Kelly is a brilliant arranger and music writer\, he spices up every perf
 ormance with his creative touch.\n\n\n\nSimon Reid:&nbsp\;Son del Surâ€™
 s bass man\, Simon\, is a Tasmanian multi-instrumentalist and teacher. H
 eâ€™s backed hundreds of bands locally and nationally\, producing origin
 al music and salsa grooves that keep you dancing all night.\n\n\n\nScott
  David Cashion: Baritone and Tenor Saxophone player\, and occasional han
 d percussionist\, he's enjoyed a 35-year music career across diverse Tas
 manian settings and performance situations\, enriching each with his tal
 ent.\n\n\n\nYoram Levy: Trumpeter and former Principal Trumpet of the Ta
 smanian Symphony Orchestra\, is now a sought-after nationwide performer\
 , educator\, and ensemble leader since retiring from the TSO.\n\n\n\nLes
  Johnston: a passionate trombonist\, combines over a decade of performan
 ce and educational experience with technical skill and captivating stage
  presence\, making him a top choice for jazz\, classical\, and contempor
 ary ensembles.\n\n\n\nFrances White: Is a powerful trombone player who m
 akes the band stand out. She plays great solos\, works with many differe
 nt bands\, and always adds something special to the music.~~~~~\n\n\n\nP
 lease note that the Courtyard Lift IS OPERATING!\n\n\n\nDoors &amp\; Bar
  open at 7pmMusic begins at&nbsp\;7.30pmThe Founders Room on Woobys Lane
 Salamanca Arts Centre.\n\n\n\nTickets are only $22 ea +BF\n\n\n\n~~~~~\n
 \n\n\nThis concert at Salamanca Arts Centre is support by Arts Tasmaniaâ
 €™s 2025 Arts Projects Fund.&nbsp\;Salamanca Arts Centre is grateful for
  this support via Arts Tasmania and the Minister for the Arts.\n\n\n\n\n
 Book Now\n\n\n\n\n\n\nAccessibility\n\n\n\nAccessible ToiletRegistered A
 ssistance Animals welcomeWheelchair AccessibleCompanion Card
URL;VALUE=URI:https://www.sac.org.au/events/son-del-sur-2/
UID:urn:uuid:2e85af29-e73a-4e3e-a522-a61027b1d959
STATUS:CONFIRMED
ORGANIZER:
DTSTAMP:20260426T000011Z
DTSTART;TZID=Australia/Hobart:20260109T193000
DTEND;TZID=Australia/Hobart:20260109T220000
LOCATION:Level 2\, 65b Woobys Lane
END:VEVENT
END:VCALENDAR