BEGIN:VCALENDAR
METHOD:PUBLISH
VERSION:2.0
CALSCALE:GREGORIAN
PRODID:-//NONSGML Sandhills Development\, LLC//NONSGML Sugar Calendar Fe
 eds v3.8.2//EN
X-WR-CALNAME:Global Sounds - Shindig Quattro
X-WR-CALDESC:Salamanca Arts Centre
X-WR-TIMEZONE:Australia/Hobart
BEGIN:VTIMEZONE
TZID:Australia/Hobart
BEGIN:DAYLIGHT
TZOFFSETFROM:+1000
TZOFFSETTO:+1100
DTSTART:20251004T160000
TZNAME:AEDT
END:DAYLIGHT
END:VTIMEZONE
BEGIN:VTIMEZONE
TZID:Australia/Hobart
BEGIN:DAYLIGHT
TZOFFSETFROM:+1000
TZOFFSETTO:+1100
DTSTART:20251004T160000
TZNAME:AEDT
END:DAYLIGHT
END:VTIMEZONE
BEGIN:VEVENT
SUMMARY:Global Sounds - Shindig Quattro
DESCRIPTION:Shindig Quattro\n\n\n\nWelcome to the&nbsp\;Global Sounds&nb
 sp\;Salamanca&nbsp\;series\, live in the Founders Room on Woobys Lane.\n
 \n\n\nFriday 12th December 2025Doors &amp\; bar open at 7pmMusic from 7:
 30pm \n\n\n\nThe Founders Room on Woobys LaneSalamanca Arts Centre\n\n\
 n\n~~~~~\n\n\n\nShindig Quattro have been performing their own blend of 
 European folk\, jazz and world music around Hobart since 2021.  Formed 
 by UTAS Conservatorium graduates Helena Markovitch (voice)\, Crystal Liv
 ermore (bass) and Aaron Entresz (guitar) they have honed their repertoir
 e to reflect their varied cultural backgrounds as well as blending in mu
 sic from other parts of the world. “Music sans frontiers” is one way
  you could describe their approach. \n\n\n\nAudiences are often struck 
 by the fun and humour this band radiates from the stage. And as much as 
 they are a bunch of kindred spirits they are also wonderfully skilled mu
 sicians. They will have you swaying wistfully to a French Chanson one mi
 nute\, in a Rebetika induced trance the next and before you know it you
 ll be dancing to a Finnish polka.\n\n\n\nFor this occasion they will b
 e joined by some of Hobart’s best musicians - Dave Elliston (Accordion
 )\, Derek Grice (Clarinet) and Matthew Ives (Drums). Expect to be taken 
 on a cross-cultural journey from France to Ukraine\, Greece to Finland i
 n fine musical style!~~~~~\n\n\n\nPlease note that the Courtyard Lift IS
  OPERATING!\n\n\n\nDoors &amp\; Bar open at 7pmMusic begins at&nbsp\;7.3
 0pmThe Founders Room on Woobys LaneSalamanca Arts Centre.\n\n\n\nTickets
  are only $19 ea +BF\n\n\n\n~~~~~\n\n\n\nThis concert at Salamanca Arts 
 Centre is support by Arts Tasmania’s 2025 Arts Projects Fund.&nbsp\;Sa
 lamanca Arts Centre is grateful for this support via Arts Tasmania and t
 he Minister for the Arts.\n\n\n\n\nBook Now\n\n\n\n\n\n\nAccessibility\n
 \n\n\nAccessible ToiletRegistered Assistance Animals welcomeWheelchair A
 ccessibleCompanion Card
URL;VALUE=URI:https://www.sac.org.au/events/shindig-quattro/
UID:urn:uuid:2e85af29-e73a-4e3e-a522-a61027b1d959
STATUS:CONFIRMED
ORGANIZER:
DTSTAMP:20260426T012810Z
DTSTART;TZID=Australia/Hobart:20251212T193000
DTEND;TZID=Australia/Hobart:20251212T220000
LOCATION:Level 2\, 65b Woobys Lane
END:VEVENT
END:VCALENDAR