BEGIN:VCALENDAR
METHOD:PUBLISH
VERSION:2.0
CALSCALE:GREGORIAN
PRODID:-//NONSGML Sandhills Development\, LLC//NONSGML Sugar Calendar Fe
 eds v3.8.2//EN
X-WR-CALNAME:Salamanca Jazz
X-WR-CALDESC:Salamanca Arts Centre
X-WR-TIMEZONE:Australia/Hobart
BEGIN:VTIMEZONE
TZID:Australia/Hobart
BEGIN:STANDARD
TZOFFSETFROM:+1100
TZOFFSETTO:+1000
DTSTART:20250405T160000
TZNAME:AEST
END:STANDARD
END:VTIMEZONE
BEGIN:VTIMEZONE
TZID:Australia/Hobart
BEGIN:STANDARD
TZOFFSETFROM:+1100
TZOFFSETTO:+1000
DTSTART:20250405T160000
TZNAME:AEST
END:STANDARD
END:VTIMEZONE
BEGIN:VEVENT
SUMMARY:Salamanca Jazz
DESCRIPTION:The Louise Denson Quintet\n\n\n\nSalamanca Jazz&nbsp\;is&nbs
 p\;Live in the Founders Room on Woobys Lane\,&nbsp\;with&nbsp\;The Louis
 e Denson Quintet (Phil Bywater\, Stevie McEntee\, Tom Robb and Jed Adams
 ). This will be a unique and special meeting of some of Hobart’s fines
 t musical minds!\n\n\n\nSaturday 26th July&nbsp\;2025Doors &amp\; bar op
 en at 7pmMusic from 7:30pm&nbsp\;\n\n\n\nThe Founders Room on Woobys Lan
 eSalamanca Arts Centre&nbsp\;\n\n\n\n~~~~~\n\n\n\nPianist/composer Louis
 e Denson will enjoy the great privilege of presenting her rarely perform
 ed compositions for quintet with the powerful and expressive frontline o
 f saxophonist Phil Bywater and trombonist Stevie McEntee.&nbsp\;The exci
 ting program will include On the Level (very funky)\, Who Knew Blues (no
 w you know!)\, Lost My Heart (recorded by multi-Downbeat-poll-winning tr
 ombonist Bill Watrous)\, and many other melodious and groovy tunes.\n\n\
 n\nDrummer Tom Robb and bassist Jed Adams complete the line-up.\n\n\n\nY
 ou won’t want to miss it!\n\n\n\nLouise is well known on the Hobart ja
 zz scene leading her own groups and working with saxophonists Spike Maso
 n\, Ken Schroder and Jesse Bowden\, and samba drummer Carlos Ferreira am
 ong others. &nbsp\;She has completed a number of extended composition pr
 ojects\, the most recent being Love Asunder with award-winning vocalist 
 Elly Hoyt. Louise’s compositions have been widely performed and record
 ed\, and she has played in festivals across Canada and Australia\, and i
 n the UK.\n\n\n\nPhil has recently returned to Tasmania after many succe
 ssful years in Melbourne as a player and educator. He led the bands Phil
  Bywater’s Buried Treasure Fallingwater Trio and Big Fela Afrobeat Orc
 hestra and was a key member of many others. Phil’s performance experie
 nce is vast and diverse\, encompassing reggae\, funk\, jazz\, afrobeat\,
  world music\, free improv\, punk\, rock\, musical theatre and contempor
 ary classical music.\n\n\n\nStevie is a mover and shaker in the Hobart s
 cene both as a player/composer/band leader and an arts administrator. Be
 fore settling in Hobart\, Stevie toured internationally as a freelance m
 usician. By day Stevie works as the co-founder and artistic director of 
 the Lutruwita Art Orchestra and as co-artistic director of the Clarence 
 Jazz Festival\, by night they lead Hobart’s 12-piece all original Afro
 beat dance band Baba Bruja and play trombone in the hugely popular regga
 e-fusion band Boil Up.\n\n\n\nPlease note that the Courtyard Lift IS OPE
 RATING!\n\n\n\nDoors &amp\; Bar open at 7pm\n\n\n\nMusic begins at 7.30
 pmThe Founders Room on Woobys LaneSalamanca Arts Centre.\n\n\n\nTickets 
 are only $28 ea +BF\, or buy two tix for $52+BF\, or buy&nbsp\;four tix 
 for only $91+BF.\n\n\n\n~~~~~\n\n\n\nThis concert at Salamanca Arts Cent
 re is support by Arts Tasmania’s 2025 Arts Projects Fund.&nbsp\;Salama
 nca Arts Centre is grateful for this support via Arts Tasmania and the M
 inister for the Arts.\n\n\n\n\nBook Now\n\n\n\n\n\n\nAccessibility\n\n\n
 \nAccessible ToiletRegistered Assistance Animals welcomeWheelchair Acces
 sibleCompanion Card
URL;VALUE=URI:https://www.sac.org.au/events/salamanca-jazz/
UID:urn:uuid:2e85af29-e73a-4e3e-a522-a61027b1d959
STATUS:CONFIRMED
ORGANIZER:
DTSTAMP:20260425T233528Z
DTSTART;TZID=Australia/Hobart:20250726T193000
DTEND;TZID=Australia/Hobart:20250726T220000
LOCATION:Level 2\, 65b Woobys Lane
END:VEVENT
END:VCALENDAR