BEGIN:VCALENDAR
METHOD:PUBLISH
VERSION:2.0
CALSCALE:GREGORIAN
PRODID:-//NONSGML Sandhills Development\, LLC//NONSGML Sugar Calendar Fe
 eds v3.8.2//EN
X-WR-CALNAME:Salamanca Jazz
X-WR-CALDESC:Salamanca Arts Centre
X-WR-TIMEZONE:Australia/Hobart
BEGIN:VTIMEZONE
TZID:Australia/Hobart
BEGIN:STANDARD
TZOFFSETFROM:+1100
TZOFFSETTO:+1000
DTSTART:20250405T160000
TZNAME:AEST
END:STANDARD
END:VTIMEZONE
BEGIN:VTIMEZONE
TZID:Australia/Hobart
BEGIN:STANDARD
TZOFFSETFROM:+1100
TZOFFSETTO:+1000
DTSTART:20250405T160000
TZNAME:AEST
END:STANDARD
END:VTIMEZONE
BEGIN:VEVENT
SUMMARY:Salamanca Jazz
DESCRIPTION:Salamanca Jazz ~ Love &amp\; the 'trane\n\n\n\nSalamanca Jaz
 z&nbsp\;is&nbsp\;Live in the Founders Room on Woobys Lane\,&nbsp\;with&n
 bsp\;‘Supreme&nbsp\;Love’Spike Mason presents a tribute to ‘A Love
 &nbsp\;Supreme’ by John Coltrane&nbsp\;on the 60th year Anniversary of
  the classic jazz album's&nbsp\;release.\n\n\n\nSaturday 27th September&
 nbsp\;2025Doors &amp\; bar open at 7pmMusic from 7:30pm&nbsp\;\n\n\n\nTh
 e Founders Room on Woobys LaneSalamanca Arts Centre&nbsp\;\n\n\n\n~~~~~\
 n\n\n\nA tribute to ‘A Love&nbsp\;Supreme’ by John Coltrane&nbsp\;on
  the 60th year Anniversary of the classic jazz albums'&nbsp\;release.A L
 ove&nbsp\;Supreme&nbsp\;was released in 1965 and is recognised as John C
 oltrane's spiritual jazz masterpiece.The 4-part suite is a collection of
  deep chant-like grooves that underpin majestic solos drawn from melodic
  exhortations. The album\, recorded by the John Coltrane Quartet\, audib
 ly changed the sonic landscape of modern music. It became an undeniable 
 influence on musicians from the worlds of jazz\, pop\, and classical mus
 ic\, and continues to be so.\n\n\n\nThis new work will echo the spirit o
 f the original recording\, but within the context of a modern Tasmanian 
 demographic.Featuring Spike Mason: saxophones + Konrad Park: drums + Sas
 ha Gavlek: double bass + Louise Denson: piano + Nick Parish: guitar + St
 evie McEntee: trombone + Orlaith Badger: trumpet.\n\n\n\nPlease note tha
 t the Courtyard Lift IS OPERATING!\n\n\n\nDoors &amp\; Bar open at 7pmMu
 sic begins at 7.30pmThe Founders Room on Woobys LaneSalamanca Arts Cent
 re.\n\n\n\nTickets are only $28 ea +BF\, or buy two tix for $52+BF\, or 
 buy&nbsp\;four tix for only $91+BF.\n\n\n\n~~~~~\n\n\n\nThis concert at 
 Salamanca Arts Centre is support by Arts Tasmania’s 2025 Arts Projects
  Fund.&nbsp\;Salamanca Arts Centre is grateful for this support via Arts
  Tasmania and the Minister for the Arts.\n\n\n\n\nBook Now\n\n\n\n\n\n\n
 Accessibility\n\n\n\nAccessible ToiletRegistered Assistance Animals welc
 omeWheelchair AccessibleCompanion Card
URL;VALUE=URI:https://www.sac.org.au/events/salamanca-jazz-love-the-tran
 e/
UID:urn:uuid:2e85af29-e73a-4e3e-a522-a61027b1d959
STATUS:CONFIRMED
ORGANIZER:
DTSTAMP:20260426T000402Z
DTSTART;TZID=Australia/Hobart:20250927T193000
DTEND;TZID=Australia/Hobart:20250927T220000
LOCATION:Level 2\, 65b Woobys Lane
END:VEVENT
END:VCALENDAR