BEGIN:VCALENDAR
METHOD:PUBLISH
VERSION:2.0
CALSCALE:GREGORIAN
PRODID:-//NONSGML Sandhills Development\, LLC//NONSGML Sugar Calendar Fe
 eds v3.8.2//EN
X-WR-CALNAME:Salamanca Jazz
X-WR-CALDESC:Salamanca Arts Centre
X-WR-TIMEZONE:Australia/Hobart
BEGIN:VTIMEZONE
TZID:Australia/Hobart
BEGIN:DAYLIGHT
TZOFFSETFROM:+1000
TZOFFSETTO:+1100
DTSTART:20251004T160000
TZNAME:AEDT
END:DAYLIGHT
END:VTIMEZONE
BEGIN:VTIMEZONE
TZID:Australia/Hobart
BEGIN:DAYLIGHT
TZOFFSETFROM:+1000
TZOFFSETTO:+1100
DTSTART:20251004T160000
TZNAME:AEDT
END:DAYLIGHT
END:VTIMEZONE
BEGIN:VEVENT
SUMMARY:Salamanca Jazz
DESCRIPTION:Salamanca Jazz ~ The Konrad Park Quintet\n\n\n\nSalamanca Ja
 zz is Live in the Founders Room on Woobys Lane\, with The Konrad Par
 k Quintet!\n\n\n\nSaturday 29th November 2025Doors &amp\; bar open at 7
 pmMusic from 7:30pm The Founders Room on Woobys Lane- - -\n\n\n\nThis N
 ovember Konrad’s quintet returns to the Salamanca Jazz live music prog
 ram\, with a renewed focus on original arrangements from its members.\n\
 n\n\nNotably\, Al Dobson and Dan Sulzberger have both been writing withi
 n the jazz idiom for more than two decades. Dobson’s studies with Amer
 ican jazz great Dave Liebman helped distill his unique writing style\, w
 hile Sulzberger has always written from behind the piano with an energy 
 and exuberance reminiscent of McCoy Tyner and Herbie Hancock. Park offer
 s the one jazz arrangement he’s been successful enough to achieve\, wr
 iting a good jazz arrangement ain’t so easy!&nbsp\;\n\n\n\nThe Konrad 
 Park Quintet looks forward to sharing with you\, an exciting evening of 
 original jazz and some time honoured tracks from their set list\, as the
 y aim to push the jazz art form forward\, one more time.- - -\n\n\n\nPle
 ase note that the Courtyard Lift IS OPERATING!\n\n\n\nDoors &amp\; Bar o
 pen at 7pmMusic begins at&nbsp\;7.30pmThe Founders Room on Woobys LaneSa
 lamanca Arts Centre.\n\n\n\nTickets are only $28 ea +BF\, or buy two tix
  for $52+BF\, or buy&nbsp\;four tix for only $91+BF.\n\n\n\n~~~~~\n\n\n\
 nThis concert at Salamanca Arts Centre is support by Arts Tasmania’s 2
 025 Arts Projects Fund.&nbsp\;Salamanca Arts Centre is grateful for this
  support via Arts Tasmania and the Minister for the Arts.\n\n\n\n\nBook 
 Now\n\n\n\n\n\n\nAccessibility\n\n\n\nAccessible ToiletRegistered Assist
 ance Animals welcomeWheelchair AccessibleCompanion Card
URL;VALUE=URI:https://www.sac.org.au/events/salamanca-jazz-konrad-park-q
 uintet/
UID:urn:uuid:2e85af29-e73a-4e3e-a522-a61027b1d959
STATUS:CONFIRMED
ORGANIZER:
DTSTAMP:20260426T000454Z
DTSTART;TZID=Australia/Hobart:20251129T193000
DTEND;TZID=Australia/Hobart:20251129T220000
LOCATION:Level 2\, 65b Woobys Lane
END:VEVENT
END:VCALENDAR