BEGIN:VCALENDAR
METHOD:PUBLISH
VERSION:2.0
CALSCALE:GREGORIAN
PRODID:-//NONSGML Sandhills Development\, LLC//NONSGML Sugar Calendar Fe
 eds v3.8.2//EN
X-WR-CALNAME:Salamanca Jazz
X-WR-CALDESC:Salamanca Arts Centre
X-WR-TIMEZONE:Australia/Hobart
BEGIN:VTIMEZONE
TZID:Australia/Hobart
BEGIN:STANDARD
TZOFFSETFROM:+1100
TZOFFSETTO:+1000
DTSTART:20250405T160000
TZNAME:AEST
END:STANDARD
END:VTIMEZONE
BEGIN:VTIMEZONE
TZID:Australia/Hobart
BEGIN:STANDARD
TZOFFSETFROM:+1100
TZOFFSETTO:+1000
DTSTART:20250405T160000
TZNAME:AEST
END:STANDARD
END:VTIMEZONE
BEGIN:VEVENT
SUMMARY:Salamanca Jazz
DESCRIPTION:Django's Tiger: A Tribute to the Hot Club of France\n\n\n\nS
 alamanca Jazz is Live in the Founders Room on Woobys Lane\, with Dja
 ngo's Tiger: A Tribute to the Hot Club of France\n\n\n\nSaturday 23rd Au
 gust 2025Doors &amp\; bar open at 7pmMusic from 7:30pm \n\n\n\nThe Fou
 nders Room on Woobys LaneSalamanca Arts Centre&nbsp\;\n\n\n\n~~~~~\n\n\n
 \nDjango’s Tiger is back at Salamanca Arts Centre’s Founders Room fo
 r a special tribute to the iconic duo of Django Reinhardt and Stéphane 
 Grappelli. Part of the celebrated Salamanca Jazz series\, this performan
 ce marks the return of the beloved trio\, whose sell-out shows in 2018 a
 nd 2019 left audiences spellbound.&nbsp\;\n\n\n\nWith their unmistakable
  style and energy\, Django’s Tiger revives the swinging sound of gypsy
  jazz\, blending dazzling melodies with fiery improvisation. Fresh\, ins
 pired\, and invigorated\, the trio promises an unforgettable journey int
 o the heart of Hot Club music.&nbsp\;\n\n\n\n\n\n\n\nPlease note that th
 e Courtyard Lift IS OPERATING!\n\n\n\nDoors &amp\; Bar open at 7pm\n\n\n
 \nMusic begins at&nbsp\;7.30pmThe Founders Room on Woobys LaneSalamanca 
 Arts Centre.\n\n\n\nTickets are only $28 ea +BF\, or buy two tix for $52
 +BF\, or buy&nbsp\;four tix for only $91+BF.\n\n\n\n~~~~~\n\n\n\nThis co
 ncert at Salamanca Arts Centre is support by Arts Tasmania’s 2025 Arts
  Projects Fund.&nbsp\;Salamanca Arts Centre is grateful for this support
  via Arts Tasmania and the Minister for the Arts.\n\n\n\n\nBook Now\n\n\
 n\n\n\n\nAccessibility\n\n\n\nAccessible ToiletRegistered Assistance Ani
 mals welcomeWheelchair AccessibleCompanion Card
URL;VALUE=URI:https://www.sac.org.au/events/salamanca-jazz-djangos-tiger
 /
UID:urn:uuid:2e85af29-e73a-4e3e-a522-a61027b1d959
STATUS:CONFIRMED
ORGANIZER:
DTSTAMP:20260426T000403Z
DTSTART;TZID=Australia/Hobart:20250823T193000
DTEND;TZID=Australia/Hobart:20250823T220000
LOCATION:Level 2\, 65b Woobys Lane
END:VEVENT
END:VCALENDAR