BEGIN:VCALENDAR
METHOD:PUBLISH
VERSION:2.0
CALSCALE:GREGORIAN
PRODID:-//NONSGML Sandhills Development\, LLC//NONSGML Sugar Calendar Fe
 eds v3.8.2//EN
X-WR-CALNAME:Salamanca Jazz
X-WR-CALDESC:Salamanca Arts Centre
X-WR-TIMEZONE:Australia/Hobart
BEGIN:VTIMEZONE
TZID:Australia/Hobart
BEGIN:DAYLIGHT
TZOFFSETFROM:+1000
TZOFFSETTO:+1100
DTSTART:20251004T160000
TZNAME:AEDT
END:DAYLIGHT
END:VTIMEZONE
BEGIN:VTIMEZONE
TZID:Australia/Hobart
BEGIN:DAYLIGHT
TZOFFSETFROM:+1000
TZOFFSETTO:+1100
DTSTART:20251004T160000
TZNAME:AEDT
END:DAYLIGHT
END:VTIMEZONE
BEGIN:VEVENT
SUMMARY:Salamanca Jazz
DESCRIPTION:Salamanca Jazz ~ The Denson-Bywater Quartet\n\n\n\nSalamanca
  Jazz&nbsp\;is&nbsp\;Live in the Founders Room on Woobys Lane\,&nbsp\;wi
 th&nbsp\;The Denson-Bywater Quartet!\n\n\n\nSaturday 28th February&nbsp\
 ;2026Doors &amp\; bar open at 7pmMusic from 7:30pm&nbsp\;The Founders Ro
 om on Woobys Lane\n\n\n\nBook Now\n\n\n\n- - -Featuring Louise Denson (p
 iano)\; Phil Bywater (saxes)\; Hamish Houston (bass)\; and Tom Robb (dru
 ms).Get ready to experience all the drama\, light\, shade\, emotion and 
 pleasure that live music can bring as pianist Louise Denson and multi-wi
 nd player Phil Bywater team up to present an exciting evening of origina
 l music! Together with Hobart’s premiere rhythm section\, Hamish Houst
 on (bs) and Tom Robb (dr)\, they will interpret repertoire ranging from 
 contemplative and nostalgic to intense and moody\, not to mention cheeky
  and fun!\n\n\n\nLouise is well known on the Hobart jazz scene\, both le
 ading her own groups and working with local musicians such as saxophonis
 t Spike Mason\, vibraphonist Kelly Ottaway and samba drummer Carlos Ferr
 eira. She has completed a number of extended composition projects\, the 
 most recent being 'Love Asunder' with award-winning vocalist Elly Hoyt. 
 Her compositions have been widely performed and recorded\, and she has p
 layed in festivals across Canada and Australia\, and in the UK.\n\n\n\nP
 hil is re-establishing himself in Hobart after many years on the big isl
 and. He is a powerful\, expressive player with countless gigs and record
 ings to his credit\, including international tours\, and performances at
  WOMADelaide\, QPAC\, Sydney Myer Music Bowl and festivals across Austra
 lia.\n\n\n\nYou won’t want to miss it!- - -\n\n\n\nPlease note that th
 e Courtyard Lift IS OPERATING!\n\n\n\nDoors &amp\; Bar open at 7pmMusic 
 begins at&nbsp\;7.30pmThe Founders Room on Woobys LaneSalamanca Arts Cen
 tre.\n\n\n\nTickets are only $30 ea +BF\, or buy two tix for $56+BF\, or
  buy four tix for only $104+BF.\n\n\n\n~~~~~\n\n\n\nThe 2026 Salamanca 
 Jazz Program at Salamanca Arts Centre will be funded entirely by your su
 pport and ticket sales\, and by Salamanca Arts Centre' earned revenue. Y
 ou can support Salamanca Arts Centre's Arts Program by purchasing a tick
 et for this and other events or by making a tax deductible donation at&n
 bsp\;https://www.sac.org.au/donate/\n\n\n\n\nBook Now\n\n\n\n\n\n\nAcces
 sibility\n\n\n\nAccessible ToiletRegistered Assistance Animals welcomeWh
 eelchair AccessibleCompanion Card
URL;VALUE=URI:https://www.sac.org.au/events/salamanca-jazz-denson-bywate
 r/
UID:urn:uuid:2e85af29-e73a-4e3e-a522-a61027b1d959
STATUS:CONFIRMED
ORGANIZER:
DTSTAMP:20260426T000300Z
DTSTART;TZID=Australia/Hobart:20260228T193000
DTEND;TZID=Australia/Hobart:20260228T220000
LOCATION:Level 2\, 65b Woobys Lane
END:VEVENT
END:VCALENDAR