BEGIN:VCALENDAR
METHOD:PUBLISH
VERSION:2.0
CALSCALE:GREGORIAN
PRODID:-//NONSGML Sandhills Development\, LLC//NONSGML Sugar Calendar Fe
 eds v3.8.2//EN
X-WR-CALNAME:RAW
X-WR-CALDESC:Salamanca Arts Centre
X-WR-TIMEZONE:Australia/Hobart
BEGIN:VTIMEZONE
TZID:Australia/Hobart
BEGIN:STANDARD
TZOFFSETFROM:+1100
TZOFFSETTO:+1000
DTSTART:20250405T160000
TZNAME:AEST
END:STANDARD
END:VTIMEZONE
BEGIN:VTIMEZONE
TZID:Australia/Hobart
BEGIN:STANDARD
TZOFFSETFROM:+1100
TZOFFSETTO:+1000
DTSTART:20250405T160000
TZNAME:AEST
END:STANDARD
END:VTIMEZONE
BEGIN:VEVENT
SUMMARY:RAW
DESCRIPTION:Rachael Windress\n\n\n\nOpening Event:Thursday 31 July 2025\
 , 5:30pm – 7:30pm\n\n\n\nOpening Hours:Monday – Friday 9:00am – 5:
 00pmSaturdays 10:00am – 3:00pmSundays 10:00am – 2:00pm\n\n\n\n“RAW
  Exhibition is a unique perspective on how I capture my photography\, t
 urning everyday objects into beauty. I create my images by experimenting
  with different concepts\, lighting and techniques. Each photo gives a u
 nique visual experience.\n\n\n\nRAW&nbsp\;exhibition is about my persona
 l journey of discovery with photography\, exploring this in a digital ag
 e\, through non figurative abstract photography. I utilise the power of 
 the camera while working in a controlled environment as well as being st
 rongly focused on the use of objects which exist in our immediate physic
 al world. I find inspiration in the simplest things\, and notice beauty 
 in things that most people don’t\, then exploring something so mundane
  and creating something so unique. The relationship I have with the obje
 ct\, lights\, and my camera\, tells a unique story of what I see through
  my lens. Every photo captures a moment in time.\n\n\n\nI’ve always ha
 d a passion and respect for traditional photography and draw inspiration
  from it. However it has been done time and time again in the photograph
 er’s own style. I want to create and capture something new. When an ob
 server walks into my exhibition\, or looks at one of my photos\, I want 
 to challenge them and their emotional response.\n\n\n\nIn the digital ag
 e we live in\, and now with AI\, I feel the fundamental skills of photog
 raphy haven’t been given the appreciation\, respect and recognition th
 ey deserve. The journey of photography from those early processes of the
  1800s to the digital age is truly remarkable and fascinating. I feel it
  is slowly being lost and I hope that I challenge the observer to questi
 on and research the history of photography and to use it in their own ph
 otography.\n\n\n\nMy style and passion for the use of the camera removes
  the need for post production tools like photoshop\, unless used as if I
  was in a dark room. I want to use my camera to its full potential and t
 o show how powerful the camera is on its own. This exhibition is a serie
 s of unique abstract and dynamic non figurative style photographs\, expl
 oring how powerful the camera is\, pushing it to its absolute limits\, w
 hile using and exploring traditional methods in a digital format.”–&
 nbsp\;Rachael Windress\n\n\n\n\n\nAccessibility\n\n\n\nAccessible Toilet
 Registered Assistance Animals welcomeWheelchair AccessibleCompanion Card
URL;VALUE=URI:https://www.sac.org.au/events/raw/
UID:urn:uuid:d5b572cd-5db2-45fa-954a-f4d78802f6cf
STATUS:CONFIRMED
ORGANIZER:
DTSTAMP:20260425T233244Z
DTSTART;VALUE=DATE:20250801
DTEND;VALUE=DATE:20250824
LOCATION:Salamanca Arts Centre Level 2
END:VEVENT
END:VCALENDAR