BEGIN:VCALENDAR
METHOD:PUBLISH
VERSION:2.0
CALSCALE:GREGORIAN
PRODID:-//NONSGML Sandhills Development\, LLC//NONSGML Sugar Calendar Fe
 eds v3.8.2//EN
X-WR-CALNAME:Promise and Promiscuity: A New Musical by Jane Austen and P
 enny Ashton
X-WR-CALDESC:Salamanca Arts Centre
X-WR-TIMEZONE:Australia/Hobart
BEGIN:VTIMEZONE
TZID:Australia/Hobart
BEGIN:STANDARD
TZOFFSETFROM:+1100
TZOFFSETTO:+1000
DTSTART:20260404T160000
TZNAME:AEST
END:STANDARD
END:VTIMEZONE
BEGIN:VTIMEZONE
TZID:Australia/Hobart
BEGIN:STANDARD
TZOFFSETFROM:+1100
TZOFFSETTO:+1000
DTSTART:20260404T160000
TZNAME:AEST
END:STANDARD
END:VTIMEZONE
BEGIN:VEVENT
SUMMARY:Promise and Promiscuity: A New Musical by Jane Austen and Penny 
 Ashton
DESCRIPTION:Penny Ashton\n\n\n\nPerformances:Friday 15th of May 2026\, 8
 :00pm – 9:10pmSaturday 16th of May 2026\, 7:30pm – 8:40pmSunday 17th
  of May 2026\, 4:00pm – 5:10pmDoors Open 20 minutes prior to performan
 ce.Duration: 70 minutesTickets:General Admission - $37.50 + BFConcession
  - $32 + BFSchool Student - $25 + BFTip The Artists - $50 + BFA fond mus
 ical mashup of Austen's best bits by "one woman wonder" (CBC Canada) Kiw
 i Penny Ashton. "Pride and Prejudice gone wild in the best possible way"
   ★★★★★ - Rip It Up AdelaideAfter a 2025 sellout tour of Austr
 alia\, Penny Ashton is back in Hobart at the wonderful Peacock Theatre.\
 n\n\n\n\nBook Now\n\n\n\n\nFlushed by 13 years of sold out successes fro
 m Edinburgh to Sydney to Toronto comes New Zealander Miss Ashton’s col
 laboration with Jane Austen (deceased).\n\n\n\nJoin Elspeth as she battl
 es literary snobbery\, cousin Horatio’s digestions and her mother’s 
 nerves\, armed only with a blushing countenance\, excellent ukulele skil
 ls and being quite bright\, you know… for a girl.\n\n\n\nIn this hilar
 ious\, one-(freakishly talented)-woman show\, Penny tackles all of Auste
 n’s characters with song\, dance and appalling cross-stitching.\n\n\n\
 nHaving been performed over 600 times\, Promise and Promiscuity is a shi
 ny polished ball with a veritable slew of awards and glowing reviews in 
 its musical bonnet.\n\n\n\nBest Theatre\, Week Three AdelaideBest Overal
 l Show\, Victoria Fringe\, BCBest Touring Production\, Dunedin Theatre A
 wards\n\n\n\n“Catch Promise and Promiscuity… Lots of fun. Thank me l
 ater.” - COLIN MOCHRIE\n\n\n\n" … a triumph of delightful satire." -
  Otago Daily Times\n\n\n\n“A razor-sharp turn of phrase” ★★★
 1/2 - Adelaide Advertiser\n\n\n\n“a delight to behold” ★★★★
 ★ - Canadian Broadcasting Corporation \n\n\n\n“..sparkling” ★★
 ★★ - The Scotsman\n\n\n\n“..brilliantly performed\, absolutely hil
 arious\, and by far the best one-person show I’ve ever seen..” - Moo
 ney on Theatre\, Toronto\n\n\n\nDiscount available on groups of 6 Adults
  or more. Will be added automatically. Please contact the organiser to b
 ook companion card tickets.Mild Innuendo. PG 14. Please no babes in arms
 .\n\n\n\n\nBook Now\n\n\n\n\n\n\nAccessibility\n\n\n\nAccessible ToiletR
 egistered Assistance Animals welcomeWheelchair AccessibleCompanion Card\
 n\n\n\n\n\n\n\nPenny Ashton/Promise and Promiscuity/2013/Judy Ashton pho
 tog\n\n\n\n\n\nPenny Ashton/Promise and Promiscuity/2020/Judy Ashton pho
 tog
URL;VALUE=URI:https://www.sac.org.au/events/promise-and-promiscuity-a-ne
 w-musical-by-jane-austen-and-penny-ashton/
UID:urn:uuid:4acf2872-4f99-4e7c-9d24-d7c92a84490d
STATUS:CONFIRMED
ORGANIZER:
DTSTAMP:20260425T203809Z
DTSTART;VALUE=DATE:20260515
DTEND;VALUE=DATE:20260517
LOCATION:Ground Floor\, 77 Salamanca Place
END:VEVENT
END:VCALENDAR