BEGIN:VCALENDAR
METHOD:PUBLISH
VERSION:2.0
CALSCALE:GREGORIAN
PRODID:-//NONSGML Sandhills Development\, LLC//NONSGML Sugar Calendar Fe
 eds v3.8.2//EN
X-WR-CALNAME:Ocean Light
X-WR-CALDESC:Salamanca Arts Centre
X-WR-TIMEZONE:Australia/Hobart
BEGIN:VTIMEZONE
TZID:Australia/Hobart
BEGIN:STANDARD
TZOFFSETFROM:+1100
TZOFFSETTO:+1000
DTSTART:20260404T160000
TZNAME:AEST
END:STANDARD
END:VTIMEZONE
BEGIN:VTIMEZONE
TZID:Australia/Hobart
BEGIN:STANDARD
TZOFFSETFROM:+1100
TZOFFSETTO:+1000
DTSTART:20260404T160000
TZNAME:AEST
END:STANDARD
END:VTIMEZONE
BEGIN:VEVENT
SUMMARY:Ocean Light
DESCRIPTION:Suemi Chiba\n\n\n\nThe Lightbox is a window space located 
 at the main entrance to the Salamanca Arts Centre on Salamanca Place\, a
 nd can be viewed 24 hours a day.Exhibition Dates:Thursday April 30th –
  Friday May 29th\, 2026"This is new work for me\, and experimental in na
 ture. I wanted to convey movement in a sculptural form or installation t
 hat also aligns with the the lightness I feel in the ocean. Clay present
 s endless challenges and ways of expressing. I wanted to explore new way
 s of working that challenged my usual practice." – Suemi Chiba\n\n\n\n
 \n\nAccessibility\n\n\n\nAccessible ToiletRegistered Assistance Animals 
 welcomeWheelchair AccessibleCompanion Card\n\n\n\n\n\n\n\nSuemi/ Ceramic
 s/ past works\n\n\n\n\n\nSuemi/ Ceramics/ past works
URL;VALUE=URI:https://www.sac.org.au/events/ocean-light/
UID:urn:uuid:6071789a-5459-4fdf-98db-1d7336fbc5a9
STATUS:CONFIRMED
ORGANIZER:
DTSTAMP:20260421T121534Z
DTSTART;VALUE=DATE:20260430
DTEND;VALUE=DATE:20260529
LOCATION:Salamanca Arts Centre Ground Floor
END:VEVENT
END:VCALENDAR