BEGIN:VCALENDAR
METHOD:PUBLISH
VERSION:2.0
CALSCALE:GREGORIAN
PRODID:-//NONSGML Sandhills Development\, LLC//NONSGML Sugar Calendar Fe
 eds v3.8.2//EN
X-WR-CALNAME:Global Sounds - Mambo Afro Trio
X-WR-CALDESC:Salamanca Arts Centre
X-WR-TIMEZONE:Australia/Hobart
BEGIN:VTIMEZONE
TZID:Australia/Hobart
BEGIN:DAYLIGHT
TZOFFSETFROM:+1000
TZOFFSETTO:+1100
DTSTART:20251004T160000
TZNAME:AEDT
END:DAYLIGHT
END:VTIMEZONE
BEGIN:VTIMEZONE
TZID:Australia/Hobart
BEGIN:DAYLIGHT
TZOFFSETFROM:+1000
TZOFFSETTO:+1100
DTSTART:20251004T160000
TZNAME:AEDT
END:DAYLIGHT
END:VTIMEZONE
BEGIN:VEVENT
SUMMARY:Global Sounds - Mambo Afro Trio
DESCRIPTION:Mambo Afro Trio\n\n\n\nWelcome to the&nbsp\;Global Sounds&nb
 sp\;Salamanca&nbsp\;series\, live in the Founders Room on Woobys Lane.\n
 \n\n\nFriday 13th February 2026Doors &amp\; bar open at 7pmMusic from 7:
 30pm \n\n\n\nThe Founders Room on Woobys LaneSalamanca Arts Centre\n\n\
 n\nBook Now\n\n\n\n~~~~~\n\n\n\nMwase Makalani (Malawi) (Vocals\, Percus
 sion)\n\n\n\nSandesh Pariyar (Nepal) guitars\n\n\n\nMatthew Fargher (Yor
 kshire/Adelaide) (Oil can Guitar\, Violin\, Cavaquinho\, Ukulele\, vocal
 s).\n\n\n\nMambo Afro Trio&nbsp\;formed around Mwase Makalani bringing t
 ogether the distinct multi-instrumental talents of a group that marries 
 the music of Malawi and South Africa: Kwela\, Mbube and Jazz.\n\n\n\nMwa
 se leads a dynamic\, wild and joyous trio\, belting out International hi
 ts like Miriam Makeba’s ‘Pata Pata’ alongside old kwela songs\, vi
 llage songs of Malawi and powerhouse instrumental originals.~~~~~\n\n\n\
 nPlease note that the Courtyard Lift IS OPERATING!\n\n\n\nDoors &amp\; B
 ar open at 7pmMusic begins at&nbsp\;7.30pmThe Founders Room on Woobys La
 neSalamanca Arts Centre.\n\n\n\nTickets are only $22 ea +BF\n\n\n\nBook 
 Now\n\n\n\n~~~~~\n\n\n\nAs our recent Funding Application to Arts Tasman
 ia was not supported\, the 2026 Global Sounds Program at Salamanca Arts 
 Centre will be funded entirely by your support and ticket sales\, and by
  Salamanca Arts Centre' earned revenue. \n\n\n\nYou can support Salamanc
 a Arts Centre's Arts Program by purchasing a ticket for this and other e
 vents or by making a tax deductible donation at https://www.sac.org.au/
 donate/\n\n\n\n\n\nAccessibility\n\n\n\nAccessible ToiletRegistered Assi
 stance Animals welcomeWheelchair AccessibleCompanion Card
URL;VALUE=URI:https://www.sac.org.au/events/mambo-afro-trio/
UID:urn:uuid:2e85af29-e73a-4e3e-a522-a61027b1d959
STATUS:CONFIRMED
ORGANIZER:
DTSTAMP:20260426T000052Z
DTSTART;TZID=Australia/Hobart:20260213T193000
DTEND;TZID=Australia/Hobart:20260213T220000
LOCATION:Level 2\, 65b Woobys Lane
END:VEVENT
END:VCALENDAR