BEGIN:VCALENDAR
METHOD:PUBLISH
VERSION:2.0
CALSCALE:GREGORIAN
PRODID:-//NONSGML Sandhills Development\, LLC//NONSGML Sugar Calendar Fe
 eds v3.8.2//EN
X-WR-CALNAME:MADE 20th Anniversary Party!
X-WR-CALDESC:Salamanca Arts Centre
X-WR-TIMEZONE:Australia/Hobart
BEGIN:VTIMEZONE
TZID:Australia/Hobart
BEGIN:STANDARD
TZOFFSETFROM:+1100
TZOFFSETTO:+1000
DTSTART:20250405T160000
TZNAME:AEST
END:STANDARD
END:VTIMEZONE
BEGIN:VTIMEZONE
TZID:Australia/Hobart
BEGIN:STANDARD
TZOFFSETFROM:+1100
TZOFFSETTO:+1000
DTSTART:20250405T160000
TZNAME:AEST
END:STANDARD
END:VTIMEZONE
BEGIN:VEVENT
SUMMARY:MADE 20th Anniversary Party!
DESCRIPTION:It's time to Party\, Dance &amp\; Support MADE!\n\n\n\nMatur
 e Artists Dance Experience (MADE) is celebrating its 20th Anniversary w
 ith a big ol' Dance Party. \n\n\n\nPlease join us to cut the cake and a
 pplaud the beloved MADE founders\, dancers\, members and supporters who 
 have been dancing for 20 fabulous years!  \n\n\n\nLive music from jazz
  band Cadence and dance favourites with DJ Nanna T. \n\n\n\nNibbles\, l
 ucky door prize and fabulous raffle including 2 nights for 2 people at H
 istoric Ratho Farm. \n\n\n\nDrinks purchased at the Bar. \n\n\n\nEvent
  : Saturday 9 August 20256:00pm - 10:00pm\n\n\n\nDress Code : Wear what
  makes you feel fabulous!\n\n\n\nTickets : MADE &amp\; SAC Members $35Co
 ncession $40General Admission $45\n\n\n\n\nBook Now\n\n\n\n\n\n\n\n\n\n\
 nAccessibility\n\n\n\nAccessible Toilet (near Level 2 Lift Platform)Regi
 stered Assistance Animals welcomeWheelchair Accessible (Lift via The Cou
 rtyard)Companion Card
URL;VALUE=URI:https://www.sac.org.au/events/made-20-anniversary-party/
UID:urn:uuid:54c6f0c3-1538-4a9b-9092-ff5e9358d0b3
STATUS:CONFIRMED
ORGANIZER:
DTSTAMP:20260425T233522Z
DTSTART;TZID=Australia/Hobart:20250809T180000
DTEND;TZID=Australia/Hobart:20250809T220000
LOCATION:Level 2\, 65b Woobys Lane
END:VEVENT
END:VCALENDAR