BEGIN:VCALENDAR
METHOD:PUBLISH
VERSION:2.0
CALSCALE:GREGORIAN
PRODID:-//NONSGML Sandhills Development\, LLC//NONSGML Sugar Calendar Fe
 eds v3.8.2//EN
X-WR-CALNAME:MADAGASCAR the musical
X-WR-CALDESC:Salamanca Arts Centre
X-WR-TIMEZONE:Australia/Hobart
BEGIN:VTIMEZONE
TZID:Australia/Hobart
BEGIN:DAYLIGHT
TZOFFSETFROM:+1000
TZOFFSETTO:+1100
DTSTART:20251004T160000
TZNAME:AEDT
END:DAYLIGHT
END:VTIMEZONE
BEGIN:VTIMEZONE
TZID:Australia/Hobart
BEGIN:DAYLIGHT
TZOFFSETFROM:+1000
TZOFFSETTO:+1100
DTSTART:20251004T160000
TZNAME:AEDT
END:DAYLIGHT
END:VTIMEZONE
BEGIN:VEVENT
SUMMARY:MADAGASCAR the musical
DESCRIPTION:Presented by Musical Theatre Crew | Junior Crew\n\n\n\nGO WI
 LD with the Zoosters &amp\; MOVE IT with King Julien to grab your ticket
 s for this fun\, hilarious show!\n\n\n\nJoin Alex the Lion\, Marty the Z
 ebra\, Gloria the Hippo\, and Melman the Giraffe as they swap city life 
 in the Central Park Zoo for a wild adventure!&nbsp\;\n\n\n\nWhen a group
  of mischievous penguins break out of the zoo\, Marty follows them onto 
 the streets of New York. Worried for Marty’s safety\, his Zooster frie
 nds set out to bring him home only to all end up tranquilised and on a b
 oat! Dropped overboard in crates when the penguins take over the boat\, 
 the Zoosters wash ashore on the island of Madagascar. Enter the hilariou
 s King Julien and his tribe of lemurs pursued by the scary Foosa and Mar
 ty’s dreams of adventure and going wild are delivered!&nbsp\;\n\n\n\nP
 acked with catchy songs\, dancing animals\, and laugh-out-loud moments\,
  this musical is a fun-filled journey about friendship\, freedom\, and f
 inding your true home.\n\n\n\nSeason : Friday 14 - Saturday 29 November 
 2025\n\n\n\nPerformances : Friday 14 November 2025\, 7:30pmSaturday 15 N
 ovember 2025\, 3:00pm | MATINEESaturday 15 November 2025\, 7:30pmSunday 
 16 November 2025\, 11:00am | MATINEESunday 16 November 2025\, 3:00pm | M
 ATINEEThursday 20 November 2025\, 7:00pm **Theatrical Thursday - Tix at 
 Kid’s Prices**Friday 21 November 2025\, 7:30pmSaturday 22 November 202
 5\, 3:00pm | MATINEESaturday 22 November 2025\, 7:30pmFriday 28 November
  2025\, 7:30pmSaturday 29 November 2025\, 3:00pm | MATINEESaturday 29 No
 vember 2025\, 7:30pm\n\n\n\nDoors / Tickets open 45 minutes prior to per
 formanceDuration: 70 minutes (NO Interval)\n\n\n\nTickets :**Early-Bird:
  $29 All Tickets / $116 Family of 4** Adult $35Concession $29Family $120
 \n\n\n\nBook Now\n\n\n\nRATED G\, however please be aware that very youn
 g children may find the darkened theatre scary.\n\n\n\n\n\n\n\n\n\n\nAcc
 essibility\n\n\n\nAccessible Toilet (located in the Courtyard)Registered
  Assistance Animals welcomeWheelchair Accessible (via Stage Doors in the
  Courtyard)Companion Card
URL;VALUE=URI:https://www.sac.org.au/events/madagascar-the-musical/
UID:urn:uuid:c25227a4-3ca9-4d9b-a6f1-5b9ef6f6614f
STATUS:CONFIRMED
ORGANIZER:
DTSTAMP:20260425T222018Z
DTSTART;VALUE=DATE:20251114
DTEND;VALUE=DATE:20251129
LOCATION:Ground Floor\, 77 Salamanca Place
END:VEVENT
END:VCALENDAR