BEGIN:VCALENDAR
METHOD:PUBLISH
VERSION:2.0
CALSCALE:GREGORIAN
PRODID:-//NONSGML Sandhills Development\, LLC//NONSGML Sugar Calendar Fe
 eds v3.8.2//EN
X-WR-CALNAME:Liquid Creations
X-WR-CALDESC:Salamanca Arts Centre
X-WR-TIMEZONE:Australia/Hobart
BEGIN:VTIMEZONE
TZID:Australia/Hobart
BEGIN:STANDARD
TZOFFSETFROM:+1100
TZOFFSETTO:+1000
DTSTART:20250405T160000
TZNAME:AEST
END:STANDARD
END:VTIMEZONE
BEGIN:VTIMEZONE
TZID:Australia/Hobart
BEGIN:STANDARD
TZOFFSETFROM:+1100
TZOFFSETTO:+1000
DTSTART:20250405T160000
TZNAME:AEST
END:STANDARD
END:VTIMEZONE
BEGIN:VEVENT
SUMMARY:Liquid Creations
DESCRIPTION:Rachael Windress\n\n\n\nSaturday 16 August 2025\, 6:00pm - 6
 :45pmLiquid Creations is a live performance by Rachael Windress. Rachael
  comes out of her studio and showcases how she creates some of her Fine 
 Art Photography. Capturing in camera\, dynamic\, non-figurative projecti
 ons. Demonstrating this by using different liquids\, dyes and lights all
  while projecting them onto the Rock wall in the courtyard at Salamanca 
 Arts Centre.\n\n\n\nAllowing the audience into her world\, creating augm
 ented spaces with immersive art. The viewers become immersed into a visu
 al spectacle and Rachael hopes she inspires the audience in many ways\, 
 particularly how she uses the camera and how powerful it is on its own.\
 n\n\n\nAfter the performance join Rachael at Top Gallery to view her Sol
 o Exhibition RAW.\n\n\n\n\n\nAccessibility\n\n\n\nAccessible Toilet (loc
 ated in the Courtyard and on Level 2)Registered Assistance Animals welco
 meWheelchair Accessible (via the Lift in the Courtyard)Companion Card
URL;VALUE=URI:https://www.sac.org.au/events/liquid-creations/
UID:urn:uuid:ffa33787-d837-4449-98b1-86e76248541e
STATUS:CONFIRMED
ORGANIZER:
DTSTAMP:20260425T221012Z
DTSTART;TZID=Australia/Hobart:20250816T180000
DTEND;TZID=Australia/Hobart:20250816T184500
LOCATION:Ground Floor\, 77 Salamanca Place (entry via Wooby’s Lane\, M
 orrison Arcade or Willis Arcade)
END:VEVENT
END:VCALENDAR