BEGIN:VCALENDAR
METHOD:PUBLISH
VERSION:2.0
CALSCALE:GREGORIAN
PRODID:-//NONSGML Sandhills Development\, LLC//NONSGML Sugar Calendar Fe
 eds v3.8.2//EN
X-WR-CALNAME:Isle of Song | Tasmanian Songwriters Collective
X-WR-CALDESC:Salamanca Arts Centre
X-WR-TIMEZONE:Australia/Hobart
BEGIN:VTIMEZONE
TZID:Australia/Hobart
BEGIN:DAYLIGHT
TZOFFSETFROM:+1000
TZOFFSETTO:+1100
DTSTART:20251004T160000
TZNAME:AEDT
END:DAYLIGHT
END:VTIMEZONE
BEGIN:VTIMEZONE
TZID:Australia/Hobart
BEGIN:DAYLIGHT
TZOFFSETFROM:+1000
TZOFFSETTO:+1100
DTSTART:20251004T160000
TZNAME:AEDT
END:DAYLIGHT
END:VTIMEZONE
BEGIN:VEVENT
SUMMARY:Isle of Song | Tasmanian Songwriters Collective
DESCRIPTION:Presented by the Tasmanian Songwriter Collective\n\n\n\nPerf
 ormance:Saturday 11 October 2025Doors Open 7:00pm | Music from 7:30pm\n\
 n\n\nDuration : 120 minutes (includes Interval)\n\n\n\nAn intimate eveni
 ng with Tasmanian songwriters at the Peacock Theatre. Daniel Cupit\, Hay
 den Foley\, Katerina Lebedev and Joe Pasanen share original songs and st
 ories in a unique collaborative performance. Distinct voices intertwine 
 to create an engaging night of music and storytelling that connects audi
 ences through the power of song.\n\n\n\nThe Tasmanian Songwriter Collect
 ive presents four of Tasmania’s most compelling singer-songwriters —
  Daniel Cupit\, Hayden Foley\, Katerina Lebedev and Joe Pasanen — for 
 a special evening of music and storytelling at the Peacock Theatre. \n\n
 \n\nThis intimate acoustic performance celebrates collaboration\, as fou
 r artists who admire and inspire each other share the stage in a rare co
 llective format. Taking turns with their original songs\, they invite th
 e audience into their creative worlds\, offering personal insight throug
 h story and song. Each brings a distinct voice\, yet together they creat
 e a dynamic tapestry that explores themes of Presence\, Absence\, Reckon
 ing and Transcendence. \n\n\n\nThe Tasmanian Songwriter Collective seeks
  to celebrate and promote original songwriting through a series of showc
 ase concerts.\n\n\n\nTickets:General Admission $25 (+BF)\n\n\n\n\nBook N
 ow\n\n\n\n\n\n\nAccessibility\n\n\n\nAccessible Toilet (located in&nbsp\
 ;the Courtyard)Registered Assistance Animals welcomeWheelchair Accessibl
 e (via&nbsp\;the Courtyard)
URL;VALUE=URI:https://www.sac.org.au/events/isle-of-song/
UID:urn:uuid:33bbc7ed-c474-48ca-9cda-635240ec6d75
STATUS:CONFIRMED
ORGANIZER:
DTSTAMP:20260425T222048Z
DTSTART;TZID=Australia/Hobart:20251011T193000
DTEND;TZID=Australia/Hobart:20251011T213000
END:VEVENT
END:VCALENDAR