BEGIN:VCALENDAR
METHOD:PUBLISH
VERSION:2.0
CALSCALE:GREGORIAN
PRODID:-//NONSGML Sandhills Development\, LLC//NONSGML Sugar Calendar Fe
 eds v3.8.2//EN
X-WR-CALNAME:Hello Goodbye Palencia
X-WR-CALDESC:Salamanca Arts Centre
X-WR-TIMEZONE:Australia/Hobart
BEGIN:VTIMEZONE
TZID:Australia/Hobart
BEGIN:DAYLIGHT
TZOFFSETFROM:+1000
TZOFFSETTO:+1100
DTSTART:20251004T160000
TZNAME:AEDT
END:DAYLIGHT
END:VTIMEZONE
BEGIN:VTIMEZONE
TZID:Australia/Hobart
BEGIN:DAYLIGHT
TZOFFSETFROM:+1000
TZOFFSETTO:+1100
DTSTART:20251004T160000
TZNAME:AEDT
END:DAYLIGHT
END:VTIMEZONE
BEGIN:VEVENT
SUMMARY:Hello Goodbye Palencia
DESCRIPTION:For one night only\, siblings Christian and Mia Palencia tak
 e the stage with their full bands for a rare collaboration of fairytale-
 folk and cinematic jazz. “Hello Goodbye Palencia" is a celebratory deb
 ut and farewell performance.\n\n\n\nEvent :Thursday 8 January 2026Doors 
 Open 6:30pm | Music from 7:00pm – 9:30pm\n\n\n\nFor one night only\, s
 iblings Christian and Mia Palencia step onto the same stage to create so
 mething rare\, intimate\, and entirely unrepeatable. Hello Goodbye Palen
 cia is a meeting point of two musical journeys\, a debut and a farewell 
 layered into one evening\, and a celebration of family\, community\, and
  the shared stories that shape us as artists and people. Set within an a
 tmosphere of warmth and connection\, this event blends fairytale-folk\, 
 cinematic jazz\, and heartfelt songwriting into an experience that honou
 rs where these two musicians have come from\, and where they are going n
 ext.\n\n\n\nAcross the night\, audiences will experience three unique se
 ts of live music\, each representing a different facet of the Palencia m
 usical story. The evening begins with PALENCIA\, Christian’s band\, fe
 aturing Jode Brewster\, Emily Oates\, Dorian Clennet\, Will Mooney\, and
  Riley Stansfield. Together they craft a sound steeped in fairytale imag
 ery\, folk textures\, and emotional narrative. Drawing listeners into a 
 world of myth\, introspection\, and atmospheric storytelling. Their perf
 ormance sets the tone for the night: imaginative\, textured\, and ground
 ed in original songwriting.\n\n\n\nThe second set brings the siblings to
 gether for an intimate duo performance: a rare moment where Christian an
 d Mia share the stage with nothing but their instruments\, their voices\
 , and their lifelong musical bond. This set highlights their natural che
 mistry\, their complementary styles\, and the deeply personal histories 
 that inform their music. It is a space for quiet storytelling\, gentle h
 armonies\, and the kind of emotional sincerity that only siblings can cr
 eate together. This duo performance is at the heart of the event’s emo
 tional core: a musical conversation between two artists honouring their 
 roots while standing at very different points in their journeys.\n\n\n\n
 The night concludes with Mia Palencia in Good Company\, Mia’s establis
 hed jazz ensemble featuring Kelly Ottaway\, Hamish Houston\, and Matt Ap
 ted. Known for their cinematic jazz sound\, they bring warmth\, sophisti
 cation\, and rich musicality to the final set. Mia’s reputation as a s
 toryteller\, vocalist\, and bandleader sets the tone for a closing perfo
 rmance full of depth\, groove\, and generosity. It is both a farewell an
 d a celebration: a final bow before a new chapter begins.\n\n\n\nAs a wh
 ole\, Hello Goodbye Palencia is designed to be a night filled with life\
 , colour\, and community. The event aims to craft an atmosphere that fee
 ls both celebratory and reflective\, a place where long-time listeners\,
  friends\, family\, and new audiences can come together and witness some
 thing special. The blend of genres\, from folk to jazz to contemporary s
 ongwriting\, reflects the cultural and artistic diversity that both sibl
 ings carry from their upbringing and shared experiences. It is an evenin
 g that invites audiences into a space of connection: between musical sty
 les\, between performers\, and between the artists and the community tha
 t supports them.\n\n\n\nWhile the performance itself is the centrepiece\
 , the surrounding intention is just as meaningful. As a debut for Christ
 ian’s new musical chapter and a farewell for Mia’s Tasmanian chapter
 \, the event holds emotional significance. It acknowledges the transitio
 ns that shape creative lives\, celebrating both beginnings and endings w
 ith equal weight. By presenting a full night of original music\, the eve
 nt engages deeply with the local arts community\, offering audiences acc
 ess to high-level musicianship\, collaborative storytelling\, and an atm
 osphere of genuine warmth.\n\n\n\nUltimately\, Hello Goodbye Palencia is
  an evening built on connection: between family\, between artistic style
 s\, and between performers and audience. It is a moment of gratitude\, a
  celebration of community\, and a reminder of the power of live music to
  bring people together. It will not happen again — and that is precise
 ly what makes it special.\n\n\n\n- - - - - \n\n\n\nTICKETING INFORMATION
 \n\n\n\nPHASE 1 — $20Limited release. Discounted tickets for the first
  fans to secure their spot. Available until allocation is sold out.\n\n\
 n\nPHASE 2 — $25Standard release. Guaranteed entry at a great price. A
 vailable once Early Bird sells out.\n\n\n\nPHASE 3 — $30Final online r
 elease. Secure your ticket before the night. Limited availability.\n\n\n
 \nWalk-In — $35Door sales on the night (subject to capacity). Arrive e
 arly to avoid disappointment.\n\n\n\nBook Now
URL;VALUE=URI:https://www.sac.org.au/events/hello-goodbye-palencia/
UID:urn:uuid:79a10fa6-e935-4162-9771-99a403b67ca8
STATUS:CONFIRMED
ORGANIZER:
DTSTAMP:20260425T221854Z
DTSTART;TZID=Australia/Hobart:20260108T190000
DTEND;TZID=Australia/Hobart:20260108T213000
LOCATION:Level 2\, 65b Woobys Lane
END:VEVENT
END:VCALENDAR