BEGIN:VCALENDAR
METHOD:PUBLISH
VERSION:2.0
CALSCALE:GREGORIAN
PRODID:-//NONSGML Sandhills Development\, LLC//NONSGML Sugar Calendar Fe
 eds v3.8.2//EN
X-WR-CALNAME:Global Sounds – XIXA
X-WR-CALDESC:Salamanca Arts Centre
X-WR-TIMEZONE:Australia/Hobart
BEGIN:VTIMEZONE
TZID:Australia/Hobart
BEGIN:STANDARD
TZOFFSETFROM:+1100
TZOFFSETTO:+1000
DTSTART:20260404T160000
TZNAME:AEST
END:STANDARD
END:VTIMEZONE
BEGIN:VTIMEZONE
TZID:Australia/Hobart
BEGIN:STANDARD
TZOFFSETFROM:+1100
TZOFFSETTO:+1000
DTSTART:20260404T160000
TZNAME:AEST
END:STANDARD
END:VTIMEZONE
BEGIN:VEVENT
SUMMARY:Global Sounds – XIXA
DESCRIPTION:XIXA\n\n\n\nWelcome to the Global Sounds Salamanca series
 \, live in the Founders Room on Woobys Lane.Friday 10 April\, 2026Doors 
 &amp\; bar open at 7pmMusic from 7:30pm The Founders Room on Woobys Lan
 eSalamanca Arts Centre Tickets are only $22ea + BF\n\n\n\n\nBook Now\n\
 n\n\n\n\n\n\n\n~~~~~\n\n\n\nXIXA was born out of the ashes of a pandemic
 . Cumbia is their rhythmic pulse\, made for dancing\, but they'll throw 
 in a power ballad for a quick breather.Xixa's horn section will get you 
 moving\, guitar and bass will set your soul ablaze\, keys will transport
  you to the tropics\, and rhythmic percussion will sync your heartbeat w
 ith one another's.Grab your dancing orthotics\, bring your friends\, bri
 ng your auntie and let's make some memories!Viva la Cumbia\, Viva Xixa!\
 n\n\n\nXIXA is: Elias Solis - CONGAS\, LEAD VOCALS  | Aaron Entresz - 
 GUITAR  | Oliver Plapp - BASS | Thomas Webster - KEYBOARD\, ACCORDION\
 , VOCALS | Eduardo Venegas - DRUM KIT\, TIMBALES\, VOCALS | Jaime Anabal
 on - GUIRO\, VOCALS | James Verral - TRUMPET | David Cavallo - TRUMPET |
  Adam Davenport-Hortle - TROMBONE\n\n\n\n~~~~~\n\n\n\nAs Salamanca Arts 
 Centre will be operating a bar under Tasmanian Liquor Licensing Regulati
 ons\, all minors (people under the age of 18) must be accompanied by a r
 esponsible adult at all times\, and SAC Staff may\, under their RSA Obli
 gations\, request verification of patrons' age.~~~~~As our recent Fundin
 g Application to Arts Tasmania was not supported\, the 2026 Global Sound
 s Live Music Series at Salamanca Arts Centre will be funded entirely by 
 your support and ticket sales\, and by Salamanca Arts Centre's earned re
 venue. In 2026 Salamanca Arts Centre receives ZERO dollars from the Tas
 manian State Government\, but you can support Salamanca Arts Centre and
 \, in turn\, our Artists\, by purchasing a ticket for this and other eve
 nts\, or by making a tax deductible donation at https://www.sac.org.au/
 donate/\n\n\n\n\nBook Now\n\n\n\n\n\n\n\n\n\n\nAccessibility\n\n\n\nAcce
 ssible ToiletRegistered Assistance Animals welcomeWheelchair AccessibleC
 ompanion Card
URL;VALUE=URI:https://www.sac.org.au/events/global-sounds-xixa/
UID:urn:uuid:b10ea032-edbf-4252-9a2b-034358ee4406
STATUS:CONFIRMED
ORGANIZER:
DTSTAMP:20260425T221226Z
DTSTART;TZID=Australia/Hobart:20260410T193000
DTEND;TZID=Australia/Hobart:20260410T220000
LOCATION:Level 2\, 65b Woobys Lane
END:VEVENT
END:VCALENDAR