BEGIN:VCALENDAR
METHOD:PUBLISH
VERSION:2.0
CALSCALE:GREGORIAN
PRODID:-//NONSGML Sandhills Development\, LLC//NONSGML Sugar Calendar Fe
 eds v3.8.2//EN
X-WR-CALNAME:Global Sounds
X-WR-CALDESC:Salamanca Arts Centre
X-WR-TIMEZONE:Australia/Hobart
BEGIN:VTIMEZONE
TZID:Australia/Hobart
BEGIN:STANDARD
TZOFFSETFROM:+1100
TZOFFSETTO:+1000
DTSTART:20250405T160000
TZNAME:AEST
END:STANDARD
END:VTIMEZONE
BEGIN:VTIMEZONE
TZID:Australia/Hobart
BEGIN:STANDARD
TZOFFSETFROM:+1100
TZOFFSETTO:+1000
DTSTART:20250405T160000
TZNAME:AEST
END:STANDARD
END:VTIMEZONE
BEGIN:VEVENT
SUMMARY:Global Sounds
DESCRIPTION:Vibración\n\n\n\nWelcome to the&nbsp\;Global Sounds&nbsp\;S
 alamanca&nbsp\;series\, live in the Founders Room on Woobys Lane.\n\n\n\
 nGuaranteed to make you want to take a spin around the floor\, Vibració
 n is Hobart's hottest\, tastiest latin combo!Featuring: Louise Denson (p
 iano)\, Kelly Ottaway (vibes)\, Hamish Houston (bass) Tom Robb (drums)\,
  Maggie Abraham (timbales) &amp\; Elias Solis (congas).\n\n\n\nFriday 12
 th September 2025Doors &amp\; bar open at 7pmMusic from 7:30pm \n\n\n\n
 The Founders Room on Woobys LaneSalamanca Arts Centre \n\n\n\n~~~~~\n\n
 \n\n¡Caliente y sabroso!Paying tribute to the greats of latin jazz such
  as Tito Puente\, Dizzy Gillespie\, Cal Tjader and Poncho Sanchez\, they
  have thrilled audiences at the Clarence Jazz Festival\, Salamanca Arts 
 Centre\, Rektango and HAJ since they first came together in 2024. With L
 ouise Denson (piano)\, Kelly Ottaway (vibes)\, Hamish Houston (bass) Tom
  Robb (drums)\, Maggie Abraham (timbales) &amp\; Elias Solis (congas)\, 
 these brilliant musicians bring energy and creative invention to the irr
 esistible rhythms of South and Central America - salsa\, mambo\, cha cha
  cha\, boogaloo and more.\n\n\n\nPlease note that the Courtyard Lift IS 
 OPERATING!\n\n\n\nDoors &amp\; Bar open at 7pmMusic begins at 7.30pmThe
  Founders Room on Woobys LaneSalamanca Arts Centre.\n\n\n\nTickets are o
 nly $19 ea +BF\n\n\n\n~~~~~\n\n\n\nThis concert at Salamanca Arts Centre
  is support by Arts Tasmania’s 2025 Arts Projects Fund.&nbsp\;Salamanc
 a Arts Centre is grateful for this support via Arts Tasmania and the Min
 ister for the Arts.\n\n\n\n\nBook Now\n\n\n\n\n\n\nAccessibility\n\n\n\n
 Accessible ToiletRegistered Assistance Animals welcomeWheelchair Accessi
 bleCompanion Card
URL;VALUE=URI:https://www.sac.org.au/events/global-sounds-vibracion/
UID:urn:uuid:2e85af29-e73a-4e3e-a522-a61027b1d959
STATUS:CONFIRMED
ORGANIZER:
DTSTAMP:20260426T000129Z
DTSTART;TZID=Australia/Hobart:20250912T193000
DTEND;TZID=Australia/Hobart:20250912T220000
LOCATION:Level 2\, 65b Woobys Lane
END:VEVENT
END:VCALENDAR