BEGIN:VCALENDAR
METHOD:PUBLISH
VERSION:2.0
CALSCALE:GREGORIAN
PRODID:-//NONSGML Sandhills Development\, LLC//NONSGML Sugar Calendar Fe
 eds v3.8.2//EN
X-WR-CALNAME:Global Sounds
X-WR-CALDESC:Salamanca Arts Centre
X-WR-TIMEZONE:Australia/Hobart
BEGIN:VTIMEZONE
TZID:Australia/Hobart
BEGIN:STANDARD
TZOFFSETFROM:+1100
TZOFFSETTO:+1000
DTSTART:20250405T160000
TZNAME:AEST
END:STANDARD
END:VTIMEZONE
BEGIN:VTIMEZONE
TZID:Australia/Hobart
BEGIN:STANDARD
TZOFFSETFROM:+1100
TZOFFSETTO:+1000
DTSTART:20250405T160000
TZNAME:AEST
END:STANDARD
END:VTIMEZONE
BEGIN:VEVENT
SUMMARY:Global Sounds
DESCRIPTION:Luke Plumb + 3\n\n\n\nWelcome to the Global Sounds Salaman
 ca series\, live in the Founders Room on Woobys Lane.\n\n\n\nFriday 8th
  August 2025Doors &amp\; bar open at 7pmMusic from 7:30pm \n\n\n\nThe F
 ounders Room on Woobys LaneSalamanca Arts Centre&nbsp\;\n\n\n\n~~~~~\n\n
 \n\nInternationally renowned mandolinist Luke Plumb is joined by three o
 f Australia’s finest musicians\, Hayato Simpson\, Dave McNamara and To
 m Robb. Using Luke’s repertoire from years collecting traditional melo
 dies from around the world as a launchpad\, this quartet will explore th
 e energy created as fearless improvisation\, electronics and tradition c
 ollide.\n\n\n\nPlease note that the Courtyard Lift IS OPERATING!\n\n\n\n
 Doors &amp\; Bar open at 7pm\n\n\n\nMusic begins at&nbsp\;7.30pmThe Foun
 ders Room on Woobys LaneSalamanca Arts Centre.\n\n\n\nTickets are only $
 19 ea +BF\n\n\n\n~~~~~\n\n\n\nThis concert at Salamanca Arts Centre is s
 upport by Arts Tasmania’s 2025 Arts Projects Fund.&nbsp\;Salamanca Art
 s Centre is grateful for this support via Arts Tasmania and the Minister
  for the Arts.\n\n\n\n\nBook Now\n\n\n\n\n\n\nAccessibility\n\n\n\nAcces
 sible ToiletRegistered Assistance Animals welcomeWheelchair AccessibleCo
 mpanion Card
URL;VALUE=URI:https://www.sac.org.au/events/global-sounds-luke-plu/
UID:urn:uuid:2e85af29-e73a-4e3e-a522-a61027b1d959
STATUS:CONFIRMED
ORGANIZER:
DTSTAMP:20260425T233657Z
DTSTART;TZID=Australia/Hobart:20250808T193000
DTEND;TZID=Australia/Hobart:20250808T220000
LOCATION:Level 2\, 65b Woobys Lane
END:VEVENT
END:VCALENDAR