BEGIN:VCALENDAR
METHOD:PUBLISH
VERSION:2.0
CALSCALE:GREGORIAN
PRODID:-//NONSGML Sandhills Development\, LLC//NONSGML Sugar Calendar Fe
 eds v3.8.2//EN
X-WR-CALNAME:Global Sounds - Arauco Libre
X-WR-CALDESC:Salamanca Arts Centre
X-WR-TIMEZONE:Australia/Hobart
BEGIN:VTIMEZONE
TZID:Australia/Hobart
BEGIN:STANDARD
TZOFFSETFROM:+1100
TZOFFSETTO:+1000
DTSTART:20250405T160000
TZNAME:AEST
END:STANDARD
END:VTIMEZONE
BEGIN:VTIMEZONE
TZID:Australia/Hobart
BEGIN:STANDARD
TZOFFSETFROM:+1100
TZOFFSETTO:+1000
DTSTART:20250405T160000
TZNAME:AEST
END:STANDARD
END:VTIMEZONE
BEGIN:VEVENT
SUMMARY:Global Sounds - Arauco Libre
DESCRIPTION:Arauco Libre\n\n\n\nWelcome to the Global Sounds Salamanca
  series\, live in the Founders Room on Woobys Lane\, with Arauco Libre.
 \n\n\n\nArauco Libre is a eight-piece traditional Latin American band\,
  formed in Hobart in 1987. Born from a powerful blend of cultural pride 
 and resilience\, the group was founded by political refugees who fled th
 e Pinochet regime in Chile\, finding a new home in Tasmania.\n\n\n\nFrid
 ay 3rd October 2025Doors &amp\; bar open at 7pmMusic from 7:30pm \n\n\n
 \nThe Founders Room on Woobys LaneSalamanca Arts Centre&nbsp\;\n\n\n\nTi
 ckets are only $19 ea +BF\n\n\n\nBook Now\n\n\n\n~~~~~\n\n\n\nArauco Lib
 re celebrates the rich musical traditions of the Andean region of South 
 America (Northern Chile\, Northern Argentina\, Peru\, Bolivia\, and Ecua
 dor). The band plays folk\, traditional\, dance\, and carnival tunes\, u
 sing authentic instruments like the&nbsp\;siku&nbsp\;(pan pipes)\,&nbsp\
 ;quena&nbsp\;(bamboo flute)\,&nbsp\;bombo&nbsp\;(drum)\,&nbsp\;charango&
 nbsp\;(a 10-string mandolin/guitar)\, and&nbsp\;chakj’chas&nbsp\;(shak
 ers)\, which add a lively and distinctive sound to their performances.\n
 \n\n\nFor three decades\, Arauco Libre was a staple at Hobart’s iconic
  Salamanca Market\, performing every Saturday from 1987 to 2017. They’
 ve also taken the stage at major events like Launceston Festivale\, Agfe
 st\, Cygnet Folk Festival\, Panama Festival\, Deloraine Craft Fair\, and
  the National Folk Festival in Canberra.\n\n\n\nWith six recordings unde
 r their belt\, Arauco Libre is a living portrait of cultural resilience 
 and the journey to a new homeland. They’re not just keeping the music 
 alive—they’re making it dance\, breathe\, and flourish in Tasmania.\
 n\n\n\n\n\n\n\nPlease note that the Courtyard Lift IS OPERATING!\n\n\n\n
 Doors &amp\; Bar open at 7pmMusic begins at&nbsp\;7.30pmThe Founders Roo
 m on Woobys LaneSalamanca Arts Centre.\n\n\n\n~~~~~\n\n\n\nThis concert 
 at Salamanca Arts Centre is support by Arts Tasmania’s 2025 Arts Proje
 cts Fund.&nbsp\;Salamanca Arts Centre is grateful for this support via A
 rts Tasmania and the Minister for the Arts.\n\n\n\n\nBook Now\n\n\n\n\n\
 n\nAccessibility\n\n\n\nAccessible ToiletRegistered Assistance Animals w
 elcomeWheelchair AccessibleCompanion Card
URL;VALUE=URI:https://www.sac.org.au/events/global-sounds-arauco-libre/
UID:urn:uuid:2e85af29-e73a-4e3e-a522-a61027b1d959
STATUS:CONFIRMED
ORGANIZER:
DTSTAMP:20260426T000212Z
DTSTART;TZID=Australia/Hobart:20251003T193000
DTEND;TZID=Australia/Hobart:20251003T220000
LOCATION:Level 2\, 65b Woobys Lane
END:VEVENT
END:VCALENDAR