BEGIN:VCALENDAR
METHOD:PUBLISH
VERSION:2.0
CALSCALE:GREGORIAN
PRODID:-//NONSGML Sandhills Development\, LLC//NONSGML Sugar Calendar Fe
 eds v3.8.2//EN
X-WR-CALNAME:Footloose Dance Party: 90s &amp\; 00s Classics
X-WR-CALDESC:Salamanca Arts Centre
X-WR-TIMEZONE:Australia/Hobart
BEGIN:VTIMEZONE
TZID:Australia/Hobart
BEGIN:DAYLIGHT
TZOFFSETFROM:+1000
TZOFFSETTO:+1100
DTSTART:20251004T160000
TZNAME:AEDT
END:DAYLIGHT
END:VTIMEZONE
BEGIN:VTIMEZONE
TZID:Australia/Hobart
BEGIN:DAYLIGHT
TZOFFSETFROM:+1000
TZOFFSETTO:+1100
DTSTART:20251004T160000
TZNAME:AEDT
END:DAYLIGHT
END:VTIMEZONE
BEGIN:VEVENT
SUMMARY:Footloose Dance Party: 90s &amp\; 00s Classics
DESCRIPTION:Presented by Footloose Dance Party. feat. Hugo Bladel &amp\;
  Track &amp\; Field\n\n\n\nHobart's favourite dance party returns... it'
 s time to get Footloose - 90s &amp\; 00s style! \n\n\n\nBy popular dema
 nd we are extremely excited to announce our first 90s &amp\; 00s event!\
 n\n\n\nCome and boogie down with Hugo Bladel for a special 2 Hour DJ Set
 \, jam-packed with 90s &amp\; 00s Classics \n\n\n\nWe will be spinning 
 artists such as : Spice GirlsBackstreet BoysBritney SpearsTLCShaggyFatbo
 y SlimSavage GardenBlack Eyed PeasDaft PunkM PeopleJamiroquaiDestiny's C
 hildBlink 182SilverchairRed Hot Chili PeppersU2\n\n\n\nWear your best 90
 s / 00s threads - there is a prize for best dressed \n\n\n\n\n\n\n\nSee
  you on the D Floor! &nbsp\;💃🏼\n\n\n\nEvent : Friday 17 October 20
 25Music from 7:30pm - 11:00pmKicking off with Track &amp\; FieldFollowed
  by Hugo Bladel\n\n\n\nTickets : General Admission $20 (+BF)\n\n\n\n\nBo
 ok Now\n\n\n\n\nContent Warning : Loud dance music and dancing\n\n\n\n\n
 \nAccessibility\n\n\n\nAccessible Toilet (near Level 2 Lift Platform)Reg
 istered Assistance Animals welcomeWheelchair Accessible (Lift via The Co
 urtyard)Companion Card
URL;VALUE=URI:https://www.sac.org.au/events/footloose-dance-party-171020
 25/
UID:urn:uuid:54c6f0c3-1538-4a9b-9092-ff5e9358d0b3
STATUS:CONFIRMED
ORGANIZER:
DTSTAMP:20260426T013140Z
DTSTART;TZID=Australia/Hobart:20251017T193000
DTEND;TZID=Australia/Hobart:20251017T230000
LOCATION:Level 2\, 65b Woobys Lane
END:VEVENT
END:VCALENDAR