BEGIN:VCALENDAR
METHOD:PUBLISH
VERSION:2.0
CALSCALE:GREGORIAN
PRODID:-//NONSGML Sandhills Development\, LLC//NONSGML Sugar Calendar Fe
 eds v3.8.2//EN
X-WR-CALNAME:Footloose Dance Party 70s &amp\; 80s
X-WR-CALDESC:Salamanca Arts Centre
X-WR-TIMEZONE:Australia/Hobart
BEGIN:VTIMEZONE
TZID:Australia/Hobart
BEGIN:STANDARD
TZOFFSETFROM:+1100
TZOFFSETTO:+1000
DTSTART:20250405T160000
TZNAME:AEST
END:STANDARD
END:VTIMEZONE
BEGIN:VTIMEZONE
TZID:Australia/Hobart
BEGIN:STANDARD
TZOFFSETFROM:+1100
TZOFFSETTO:+1000
DTSTART:20250405T160000
TZNAME:AEST
END:STANDARD
END:VTIMEZONE
BEGIN:VEVENT
SUMMARY:Footloose Dance Party 70s &amp\; 80s
DESCRIPTION:Presented by Footloose Dance Party. feat. Hugo Bladel &amp\;
  Kate Bain \n\n\n\nAfter our highly successful Disco Classics and 80’s
  Classics events - we have decided to merge two of our favourite decades
  in music - the 70’s and 80’s!\n\n\n\nJoin Hugo Bladel for a grooval
 icious 2 Hour DJ Set - jam packed with hits!&nbsp\;\n\n\n\nThis really i
 s the best of both worlds - Disco\, Funk\, 80’s\, Yacht Rock and Pop C
 lassics spanning 2 era's from legendary artists such as:ABBAMichael Jack
 sonEurythmicsKool &amp\; the GangWham!Earth\, Wind and FirePrinceHall &a
 mp\; OatesBee GeesTina TurnerChicWhitney HoustonMadonnaSister SledgePoin
 ter Sisters Cindy LauperDiana Rross KC &amp\; The Sunshine BandPatrice
  Rushen\n\n\n\nWear your best 70’s or 80's threads or BOTH - there is 
 a prize for best dressed 🏅let’s get creative!&nbsp\;\n\n\n\nSee you
  on the D Floor! &nbsp\;💃🏼\n\n\n\nEvent : Friday 15 August 2025Mus
 ic from 7:30pm - 11:0pmKicking off with Kate BainFollowed by Hugo Bladel
 \n\n\n\nTickets : General Admission $20 (+BF)\n\n\n\n\nBook Now\n\n\n\n\
 nContent Warning : Loud dance music and dancing\n\n\n\n\n\nAccessibility
 \n\n\n\nAccessible Toilet (near Level 2 Lift Platform)Registered Assista
 nce Animals welcomeWheelchair Accessible (Lift via The Courtyard)Compani
 on Card
URL;VALUE=URI:https://www.sac.org.au/events/footloose-dance-party-150820
 25/
UID:urn:uuid:54c6f0c3-1538-4a9b-9092-ff5e9358d0b3
STATUS:CONFIRMED
ORGANIZER:
DTSTAMP:20260425T233651Z
DTSTART;TZID=Australia/Hobart:20250815T193000
DTEND;TZID=Australia/Hobart:20250815T230000
LOCATION:Level 2\, 65b Woobys Lane
END:VEVENT
END:VCALENDAR