BEGIN:VCALENDAR
METHOD:PUBLISH
VERSION:2.0
CALSCALE:GREGORIAN
PRODID:-//NONSGML Sandhills Development\, LLC//NONSGML Sugar Calendar Fe
 eds v3.8.2//EN
X-WR-CALNAME:Disney Beauty and the Beast jr
X-WR-CALDESC:Salamanca Arts Centre
X-WR-TIMEZONE:Australia/Hobart
BEGIN:VTIMEZONE
TZID:Australia/Hobart
BEGIN:DAYLIGHT
TZOFFSETFROM:+1000
TZOFFSETTO:+1100
DTSTART:20251004T160000
TZNAME:AEDT
END:DAYLIGHT
END:VTIMEZONE
BEGIN:VTIMEZONE
TZID:Australia/Hobart
BEGIN:DAYLIGHT
TZOFFSETFROM:+1000
TZOFFSETTO:+1100
DTSTART:20251004T160000
TZNAME:AEDT
END:DAYLIGHT
END:VTIMEZONE
BEGIN:VEVENT
SUMMARY:Disney Beauty and the Beast jr
DESCRIPTION:Presented by Musical Theatre Crew| Intermediate Performance 
 Ensemble\n\n\n\nBe our guest as Belle who longs for a life of adventure 
 enters an enchanted castle and meets a cheeky candlestick\, wise old clo
 ck\, and a teapot who knows how to pour on the charm\, and you’ve got 
 a recipe for a magical time at the theatre!\n\n\n\nGet ready for a “ta
 le as old as time” with a fresh twist as Crew’s Intermediate Perform
 ance Ensemble presents Disney’s Beauty and the Beast JR! This beast of
  a show is packed with dazzling dance numbers\, show-stopping songs\, an
 d plenty of enchanted surprises.\n\n\n\nThis production is double-cast -
  The Mob and The Forks - and the role of Belle is triple cast - Ada\, Bi
 llie and Emily - with performance times. Direction and Vocal Direction b
 y David Thomson with Choreography by Bridget Cooper\, and Costumes by He
 len Cronin. \n\n\n\nThis is the perfect show for teens\, kids and all th
 ose young at heart.\n\n\n\nSeason : Friday 24 October - Saturday 8 Novem
 ber 2025\n\n\n\nPerformances : Friday 24 October 2025\, 7:30pmSaturday 2
 5 October 2025\, 3:00pm | MATINEESaturday 25 October 2025\, 7:30pmSunday
  26 October 2025\, 11:00am | MATINEESunday 26 October 2025\, 3:00pm | M
 ATINEEFriday 31 October 2025\, 7:30pmSaturday 1 November 2025\, 3:00pm |
  MATINEESaturday 1 November 2025\, 7:30pmSunday 2 November 2025\, 3:00pm
  | MATINEEFriday 7 November 2025\, 7:30pmSaturday 8 November 2025\, 3:00
 pm | MATINEESaturday 8 November 2025\, 7:30pm\n\n\n\nDoors / Tickets ope
 n 45 minutes prior to performanceDuration: 70 minutes (NO Interval)\n\n\
 n\nTickets :**Early-Bird: $32 Adult / $28 Concession**Adult $38Concessio
 n $29Family $120\n\n\n\nBook Now\n\n\n\nRATED PG for Children Under 10 d
 ue to darkened theatre\, a 'beast' with prosthetics\, some scenes featur
 ing angry characters\, two wolf chases through a forest\, a fight betwee
 n two male characters\, the seemingly imminent death of a lead character
  but the spell is broken by true love and all is right in the world.\n\n
 \n\n\n\n\n\n\n\n\nAccessibility\n\n\n\nAccessible Toilet (located in the
  Courtyard)Registered Assistance Animals welcomeWheelchair Accessible (v
 ia Stage Doors in the Courtyard)Companion Card
URL;VALUE=URI:https://www.sac.org.au/events/disney-beauty-and-the-beast-
 jr/
UID:urn:uuid:c25227a4-3ca9-4d9b-a6f1-5b9ef6f6614f
STATUS:CONFIRMED
ORGANIZER:
DTSTAMP:20260425T165511Z
DTSTART;VALUE=DATE:20251024
DTEND;VALUE=DATE:20251108
LOCATION:Ground Floor\, 77 Salamanca Place
END:VEVENT
END:VCALENDAR