BEGIN:VCALENDAR
METHOD:PUBLISH
VERSION:2.0
CALSCALE:GREGORIAN
PRODID:-//NONSGML Sandhills Development\, LLC//NONSGML Sugar Calendar Fe
 eds v3.8.2//EN
X-WR-CALNAME:Darren Hanlon 20th Anniversary Christmas Show
X-WR-CALDESC:Salamanca Arts Centre
X-WR-TIMEZONE:Australia/Hobart
BEGIN:VTIMEZONE
TZID:Australia/Hobart
BEGIN:DAYLIGHT
TZOFFSETFROM:+1000
TZOFFSETTO:+1100
DTSTART:20251004T160000
TZNAME:AEDT
END:DAYLIGHT
END:VTIMEZONE
BEGIN:VTIMEZONE
TZID:Australia/Hobart
BEGIN:DAYLIGHT
TZOFFSETFROM:+1000
TZOFFSETTO:+1100
DTSTART:20251004T160000
TZNAME:AEDT
END:DAYLIGHT
END:VTIMEZONE
BEGIN:VEVENT
SUMMARY:Darren Hanlon 20th Anniversary Christmas Show
DESCRIPTION:Presented by Flippin Yeah Records\n\n\n\nPerformance:Thursda
 y 11 December 2025Doors Open 6:30pm | Music from 7:00pm\n\n\n\nDuration 
 : 3 hours (includes 30 minute Interval at approx. 8:15pm))\n\n\n\nDarren
  Hanlon plays Hobart as part of his 20th Anniversary Christmas show tour
 . \n\n\n\nThis year marks 20 years since Darren Hanlon began his infamou
 s solo Christmas shows. Back in 2005 he decided to finish his year with 
 just two shows\, one at Sydney’s Mandarin Club and the other at the No
 rthcote Social Club in Melbourne. It was meant to be a one off event&nbs
 p\; but over the years it has grown organically under its own steam.\n\n
 \n\nThis year he’s planned out yet another lap around the country play
 ing the city pubs and country halls\, armed with his beat up old guitar\
 , a road-worn banjo\, and his ever growing swag of songs.&nbsp\;\n\n\n\n
 Darren will appear in Hobart (Peacock Theatre) with special guest : Eliz
 a Bird (Tasmania)\n\n\n\nTickets:General Admission $34 (+ BF) Kids (Aged
  10 - 14 years) $17 (+ BF)Kids under 10 are free\n\n\n\n\nBook Now\n\n\n
 \n\n\n\nAccessibility\n\n\n\nAccessible Toilet (located in&nbsp\;the Cou
 rtyard)Registered Assistance Animals welcomeWheelchair Accessible (via&n
 bsp\;the Courtyard)
URL;VALUE=URI:https://www.sac.org.au/events/darren-hanlon/
UID:urn:uuid:33bbc7ed-c474-48ca-9cda-635240ec6d75
STATUS:CONFIRMED
ORGANIZER:
DTSTAMP:20260425T235939Z
DTSTART;TZID=Australia/Hobart:20251211T190000
DTEND;TZID=Australia/Hobart:20251211T220000
END:VEVENT
END:VCALENDAR