BEGIN:VCALENDAR
METHOD:PUBLISH
VERSION:2.0
CALSCALE:GREGORIAN
PRODID:-//NONSGML Sandhills Development\, LLC//NONSGML Sugar Calendar Fe
 eds v3.8.2//EN
X-WR-CALNAME:Wednesday SHOWs : Â The Long Weekend + The La RondeÂ + The 
 Lighthouse | Dark Impro
X-WR-CALDESC:Salamanca Arts Centre
X-WR-TIMEZONE:Australia/Hobart
BEGIN:VTIMEZONE
TZID:Australia/Hobart
BEGIN:STANDARD
TZOFFSETFROM:+1100
TZOFFSETTO:+1000
DTSTART:20250405T160000
TZNAME:AEST
END:STANDARD
END:VTIMEZONE
BEGIN:VTIMEZONE
TZID:Australia/Hobart
BEGIN:STANDARD
TZOFFSETFROM:+1100
TZOFFSETTO:+1000
DTSTART:20250405T160000
TZNAME:AEST
END:STANDARD
END:VTIMEZONE
BEGIN:VEVENT
SUMMARY:Wednesday SHOWs : Â The Long Weekend + The La RondeÂ + The Light
 house | Dark Impro
DESCRIPTION:A Dark Impro Festival Event | Presented by Protea Impro\n\n\
 n\nJoin us for an evening of Improvised Theatre : 3 x Shows!\n\n\n\n\n\n
 \n\nThe Long Weekend | Presented by PROTEA ImproÂ 6 people go away for a
  long weekend. Something will happen that will change their lives foreve
 r. But who are they and what will happen to them? Weâ€™ll find out on th
 e night.\n\n\n\n\n\n\n\nThe La Ronde | Presented by Lindsay DrummondIt i
 s time to explore one of the most fun character driven improv formats of
  all time! La Ronde follows a chain of intimate\, unexpected encounters 
 with each scene linked by a shared character. Watch as stories unfold in
  a circular dance of connection\, desire\, and shifting power dynamics.Â
  \n\n\n\n\n\n\n\nThe Lighthouse | Presented by PROTEA ImproUsually the l
 ighthouse is manned by one keeper at a time. This year however\, the cha
 ngeover hasnâ€™t gone to plan. And two lighthouse keepers are stuck with
  each other for the season.The Lighthouse is a bonus show and is free fo
 r any ticket holder that night!Â \n\n\n\nSHOWS :Wednesday 3 September 20
 25\, 7:00pm - 9:45pm\n\n\n\nTickets : General Admission $30Concession $2
 0\n\n\n\n\nBook Now\n\n\n\n\n\n\n\nAccessibility\n\n\n\nAccessible Toile
 t (located in the Courtyard)Registered Assistance Animals welcomeWheelch
 air Accessible (via the Courtyard)
URL;VALUE=URI:https://www.sac.org.au/events/dark-impro-wednesday-shows/
UID:urn:uuid:c25227a4-3ca9-4d9b-a6f1-5b9ef6f6614f
STATUS:CONFIRMED
ORGANIZER:
DTSTAMP:20260426T000012Z
DTSTART;TZID=Australia/Hobart:20250903T190000
DTEND;TZID=Australia/Hobart:20250903T214500
LOCATION:Ground Floor\, 77 Salamanca Place
END:VEVENT
END:VCALENDAR