BEGIN:VCALENDAR
METHOD:PUBLISH
VERSION:2.0
CALSCALE:GREGORIAN
PRODID:-//NONSGML Sandhills Development\, LLC//NONSGML Sugar Calendar Fe
 eds v3.8.2//EN
X-WR-CALNAME:Tuesday SHOWs : Hotel Sol + The Dark Side of the Moon + The
  Lighthouse | Dark Impro
X-WR-CALDESC:Salamanca Arts Centre
X-WR-TIMEZONE:Australia/Hobart
BEGIN:VTIMEZONE
TZID:Australia/Hobart
BEGIN:STANDARD
TZOFFSETFROM:+1100
TZOFFSETTO:+1000
DTSTART:20250405T160000
TZNAME:AEST
END:STANDARD
END:VTIMEZONE
BEGIN:VTIMEZONE
TZID:Australia/Hobart
BEGIN:STANDARD
TZOFFSETFROM:+1100
TZOFFSETTO:+1000
DTSTART:20250405T160000
TZNAME:AEST
END:STANDARD
END:VTIMEZONE
BEGIN:VEVENT
SUMMARY:Tuesday SHOWs : Hotel Sol + The Dark Side of the Moon + The Ligh
 thouse | Dark Impro
DESCRIPTION:A Dark Impro Festival Event | Presented by Protea Impro\n\n\
 n\nJoin us for an evening of Improvised Theatre : 3 x Shows!\n\n\n\n\n\n
 \n\nHotel Sol | Presented by Matías Avaca Welcome to Hotel Sol\, where
  the magic of the Mediterranean beachfront meets the fiery drama of a te
 lenovela. Immerse yourself in a world of love\, betrayal\, mystery\, and
  uproarious humour\, all set against the backdrop of a luxurious seaside
  resort.\n\n\n\nGet ready to be guided through a whirlwind of suspense a
 nd hilarity\, ensuring your heart is thoroughly entertained. Reserve you
 r spot for this exclusive event\, a one-of-a-kind show that will keep yo
 u mesmerised from start to finish.\n\n\n\n\n\n\n\nThe Dark Side of the M
 oon | Presented by Ryk GoddardA cabaret from the end of time where every
  act is improvised as the world collapses around performers who squeeze 
 the last bit of life and love from themselves to entertain you. Bizarre\
 , dark and tinged with bitterness the show features some of the most bri
 lliant physical and musical performers in collaboration to create an imp
 rovised cabaret.\n\n\n\n\n\n\n\nThe Lighthouse | Presented by PROTEA Imp
 roUsually the lighthouse is manned by one keeper at a time. This year ho
 wever\, the changeover hasn’t gone to plan. And two lighthouse keepers
  are stuck with each other for the season.The Lighthouse is a bonus show
  and is free for any ticket holder that night! \n\n\n\nSHOWS :Tuesday 2
  September 2025\, 7:00pm - 9:00pm\n\n\n\nTickets : General Admission $30
 Concession $20\n\n\n\n\nBook Now\n\n\n\n\n\n\n\nAccessibility\n\n\n\nAcc
 essible Toilet (located in the Courtyard)Registered Assistance Animals w
 elcomeWheelchair Accessible (via the Courtyard)
URL;VALUE=URI:https://www.sac.org.au/events/dark-impro-tuesday-shows/
UID:urn:uuid:c25227a4-3ca9-4d9b-a6f1-5b9ef6f6614f
STATUS:CONFIRMED
ORGANIZER:
DTSTAMP:20260425T221741Z
DTSTART;TZID=Australia/Hobart:20250902T190000
DTEND;TZID=Australia/Hobart:20250902T210000
LOCATION:Ground Floor\, 77 Salamanca Place
END:VEVENT
END:VCALENDAR