BEGIN:VCALENDAR
METHOD:PUBLISH
VERSION:2.0
CALSCALE:GREGORIAN
PRODID:-//NONSGML Sandhills Development\, LLC//NONSGML Sugar Calendar Fe
 eds v3.8.2//EN
X-WR-CALNAME:Thursday SHOWs :  Our Place + The Last Day + The Lighthou
 se | Dark Impro
X-WR-CALDESC:Salamanca Arts Centre
X-WR-TIMEZONE:Australia/Hobart
BEGIN:VTIMEZONE
TZID:Australia/Hobart
BEGIN:STANDARD
TZOFFSETFROM:+1100
TZOFFSETTO:+1000
DTSTART:20250405T160000
TZNAME:AEST
END:STANDARD
END:VTIMEZONE
BEGIN:VTIMEZONE
TZID:Australia/Hobart
BEGIN:STANDARD
TZOFFSETFROM:+1100
TZOFFSETTO:+1000
DTSTART:20250405T160000
TZNAME:AEST
END:STANDARD
END:VTIMEZONE
BEGIN:VEVENT
SUMMARY:Thursday SHOWs :  Our Place + The Last Day + The Lighthouse | 
 Dark Impro
DESCRIPTION:A Dark Impro Festival Event | Presented by Protea Impro\n\n\
 n\nJoin us for an evening of Improvised Theatre : 3 x Shows!\n\n\n\n\n\n
 \n\nOur Place | Presented by PROTEA Impro Our Place is a narrative form
 at which explores the concept of place through the creation of such a to
 wn. Using scene painting and suggestions from the audience a map of the 
 Place is created. We then see characters from this town tell their stori
 es and gradually over the duration of the show\, these stories build a s
 ense of the personality of this newly minted town\, and what it means to
  the people that live there. Links appear between sometimes disparate sc
 enes and characters as we slowly build the theatrical equivalent of a wa
 tercolour painting of a town and its people.\n\n\n\n\n\n\n\nThe Last Day
  | Presented by Matt Armstrong &amp\; Michael FletcherThe show The Last 
 Day is a very dynamic long form show based on the premise of audience su
 ggestions on "the last day of..." and we work with the audience to provi
 de suggestions that range from grounded (""capitalism"") to esoteric (""
 silence""). Scenes can be short or long\, with a different characters an
 d styles based on the suggestion.  The Last Day show format deliberatel
 y encourages the audience to reveal what is top of mind at the start of 
 each scene\, and the performers often encourage more deeper exploration 
 with the audience through the scene itself.\n\n\n\n\n\n\n\nThe Lighthous
 e | Presented by PROTEA ImproUsually the lighthouse is manned by one kee
 per at a time. This year however\, the changeover hasn’t gone to plan.
  And two lighthouse keepers are stuck with each other for the season.The
  Lighthouse is a bonus show and is free for any ticket holder that night
 ! \n\n\n\nSHOWS :Thursday 4 September 2025\, 7:00pm - 9:45pm\n\n\n\nTic
 kets : General Admission $30Concession $20\n\n\n\n\nBook Now\n\n\n\n\n\n
 \n\nAccessibility\n\n\n\nAccessible Toilet (located in the Courtyard)Reg
 istered Assistance Animals welcomeWheelchair Accessible (via the Courtya
 rd)
URL;VALUE=URI:https://www.sac.org.au/events/dark-impro-thursday-shows/
UID:urn:uuid:c25227a4-3ca9-4d9b-a6f1-5b9ef6f6614f
STATUS:CONFIRMED
ORGANIZER:
DTSTAMP:20260425T220838Z
DTSTART;TZID=Australia/Hobart:20250904T190000
DTEND;TZID=Australia/Hobart:20250904T214500
LOCATION:Ground Floor\, 77 Salamanca Place
END:VEVENT
END:VCALENDAR