BEGIN:VCALENDAR
METHOD:PUBLISH
VERSION:2.0
CALSCALE:GREGORIAN
PRODID:-//NONSGML Sandhills Development\, LLC//NONSGML Sugar Calendar Fe
 eds v3.8.2//EN
X-WR-CALNAME:Saturday SHOWs : Whiplash + Bonfire + The Lighthouse | Dark
  Impro
X-WR-CALDESC:Salamanca Arts Centre
X-WR-TIMEZONE:Australia/Hobart
BEGIN:VTIMEZONE
TZID:Australia/Hobart
BEGIN:STANDARD
TZOFFSETFROM:+1100
TZOFFSETTO:+1000
DTSTART:20250405T160000
TZNAME:AEST
END:STANDARD
END:VTIMEZONE
BEGIN:VTIMEZONE
TZID:Australia/Hobart
BEGIN:STANDARD
TZOFFSETFROM:+1100
TZOFFSETTO:+1000
DTSTART:20250405T160000
TZNAME:AEST
END:STANDARD
END:VTIMEZONE
BEGIN:VEVENT
SUMMARY:Saturday SHOWs : Whiplash + Bonfire + The Lighthouse | Dark Impr
 o
DESCRIPTION:A Dark Impro Festival Event | Presented by Protea Impro\n\n\
 n\nJoin us for an evening of Improvised Theatre : 3 x Shows!\n\n\n\n\n\n
 \n\nWhiplash | Presented by Jason Geary &amp\; Jaron WhyOne drummer. One
  improviser. No script. Pure adrenaline. Witness Jaron Why and Jason Gea
 ry as they ignite the stage in a high-octane fusion of live jazz drummin
 g and unscripted storytelling. Like Whiplash meets freestyle theater\, e
 very beat drives the narrative forward—every riff sparks a new twist. 
 Frenetic improv meets jazz’s raw power. Characters\, stories\, and emo
 tions woven in real-time. Drumming so intense\, it bends reality. This i
 sn’t just a show—it’s a live-wire act of creation. Will you be the
 re when the magic (or chaos) unfolds? Don’t miss it. No two nights are
  the same.\n\n\n\n\n\n\n\nBonfire | Presented by Matías AvacaBonfire in
 vites you to gather around the fire and immerse yourself in a world of s
 torytelling. Performers bring to life captivating tales of culture\, her
 itage\, and folklore\, weaving together personal and ancestral stories t
 hat celebrate the richness of human experiences. The intimate setting cr
 eates a space for connection and reflection\, where each performance is 
 a unique exploration of shared histories and the power of storytelling. 
 Experience an evening filled with laughter\, wonder\, and a deep sense o
 f community\, as we honour the timeless tradition of stories passed down
  through generations.\n\n\n\n\n\n\n\nThe Lighthouse | Presented by PROTE
 A ImproUsually the lighthouse is manned by one keeper at a time. This ye
 ar however\, the changeover hasn’t gone to plan. And two lighthouse ke
 epers are stuck with each other for the season.The Lighthouse is a bonus
  show and is free for any ticket holder that night! \n\n\n\nSHOWS :Satu
 rday 30 August 2025\, 7:00pm - 9:45pm \n\n\n\nTickets : General Admissio
 n $30Concession $20\n\n\n\n\nBook Now\n\n\n\n\n\n\n\nAccessibility\n\n\n
 \nAccessible Toilet (located in the Courtyard)Registered Assistance Anim
 als welcomeWheelchair Accessible (via the Courtyard)
URL;VALUE=URI:https://www.sac.org.au/events/dark-impro-saturday-shows/
UID:urn:uuid:c25227a4-3ca9-4d9b-a6f1-5b9ef6f6614f
STATUS:CONFIRMED
ORGANIZER:
DTSTAMP:20260425T235052Z
DTSTART;TZID=Australia/Hobart:20250830T190000
DTEND;TZID=Australia/Hobart:20250830T214500
LOCATION:Ground Floor\, 77 Salamanca Place
END:VEVENT
END:VCALENDAR