BEGIN:VCALENDAR
METHOD:PUBLISH
VERSION:2.0
CALSCALE:GREGORIAN
PRODID:-//NONSGML Sandhills Development\, LLC//NONSGML Sugar Calendar Fe
 eds v3.8.2//EN
X-WR-CALNAME:Saturday SHOWs : Game of Life + Wizards at the Supermarket 
 + The Lighthouse | Dark Impro
X-WR-CALDESC:Salamanca Arts Centre
X-WR-TIMEZONE:Australia/Hobart
BEGIN:VTIMEZONE
TZID:Australia/Hobart
BEGIN:STANDARD
TZOFFSETFROM:+1100
TZOFFSETTO:+1000
DTSTART:20250405T160000
TZNAME:AEST
END:STANDARD
END:VTIMEZONE
BEGIN:VTIMEZONE
TZID:Australia/Hobart
BEGIN:STANDARD
TZOFFSETFROM:+1100
TZOFFSETTO:+1000
DTSTART:20250405T160000
TZNAME:AEST
END:STANDARD
END:VTIMEZONE
BEGIN:VEVENT
SUMMARY:Saturday SHOWs : Game of Life + Wizards at the Supermarket + The
  Lighthouse | Dark Impro
DESCRIPTION:A Dark Impro Festival Event | Presented by Protea Impro\n\n\
 n\nJoin us for an evening of Improvised Theatre : 3 x Shows!\n\n\n\n\n\n
 \n\nGame of Life | Presented by Matt ArmstrongGame of Life is new struct
 ured long form duo show that follows the major life milestones of 3-5 co
 uples: preparing for their first date\; the first date\; the honeymoon\;
  the 20th wedding anniversary\; and finally "where are they now?". Game 
 of Life is heavily character driven and uses key elements from UCBâ€™s â
 €˜The Documentaryâ€™ improv show format\, and is more suitable for perfo
 rmers with a medium to high level of experience.\n\n\n\n\n\n\n\nWizards 
 at the Supermarket | Presented by Malcom MorrisonWizards at the Supermar
 ket is a comedic short story anthology exploring Fantasy/Sci-Fi Normalis
 m (or the Mundane Fantastic) - the interesting practical questions often
  swept under the rug by the epic adventures. How did Dr. Destruction man
 age to hire an extensive workforce of minions? What do Cthulhu cultists 
 do on dates?Â  How do vampire's afford their castles - and do they pay r
 ates? The show relishes in finding the humour in the shared experience t
 hat we can have even with horror-monsters from The Void. Heartfelt and f
 unny.\n\n\n\n\n\n\n\nThe Lighthouse | Presented by PROTEA ImproUsually t
 he lighthouse is manned by one keeper at a time. This year however\, the
  changeover hasnâ€™t gone to plan. And two lighthouse keepers are stuck 
 with each other for the season.The Lighthouse is a bonus show and is fre
 e for any ticket holder that night!Â \n\n\n\nSHOWS :Saturday 6 September
  2025\, 7:00pm - 9:45pm\n\n\n\nTickets : General Admission $30Concession
  $20\n\n\n\n\n\n\nAccessibility\n\n\n\nAccessible Toilet (located in the
  Courtyard)Registered Assistance Animals welcomeWheelchair Accessible (v
 ia the Courtyard)
URL;VALUE=URI:https://www.sac.org.au/events/dark-impro-saturday-shows-6s
 ept/
UID:urn:uuid:c25227a4-3ca9-4d9b-a6f1-5b9ef6f6614f
STATUS:CONFIRMED
ORGANIZER:
DTSTAMP:20260425T222018Z
DTSTART;TZID=Australia/Hobart:20250906T190000
DTEND;TZID=Australia/Hobart:20250906T214500
LOCATION:Ground Floor\, 77 Salamanca Place
END:VEVENT
END:VCALENDAR