BEGIN:VCALENDAR
METHOD:PUBLISH
VERSION:2.0
CALSCALE:GREGORIAN
PRODID:-//NONSGML Sandhills Development\, LLC//NONSGML Sugar Calendar Fe
 eds v3.8.2//EN
X-WR-CALNAME:Friday SHOWs : Pears + St. Evangeline’s School of Intrigu
 e\, Mystery and Intrigue + The Lighthouse | Dark Impro
X-WR-CALDESC:Salamanca Arts Centre
X-WR-TIMEZONE:Australia/Hobart
BEGIN:VTIMEZONE
TZID:Australia/Hobart
BEGIN:STANDARD
TZOFFSETFROM:+1100
TZOFFSETTO:+1000
DTSTART:20250405T160000
TZNAME:AEST
END:STANDARD
END:VTIMEZONE
BEGIN:VTIMEZONE
TZID:Australia/Hobart
BEGIN:STANDARD
TZOFFSETFROM:+1100
TZOFFSETTO:+1000
DTSTART:20250405T160000
TZNAME:AEST
END:STANDARD
END:VTIMEZONE
BEGIN:VEVENT
SUMMARY:Friday SHOWs : Pears + St. Evangeline’s School of Intrigue\, M
 ystery and Intrigue + The Lighthouse | Dark Impro
DESCRIPTION:A Dark Impro Festival Event | Presented by Protea Impro\n\n\
 n\nJoin us for an evening of Improvised Theatre : 3 x Shows!\n\n\n\n\n\n
 \n\nPears | Presented by PROTEA ImproEveryone loves pears! Pairs will pe
 rform a seven minute story for your delight! The catch is: they won’t 
 know who their pair is until the pear is picked from the fruit bowl.\n\n
 \n\n\n\n\n\nSt Evangaline's School of Intrigue\, Mystery and Intrigue | 
 Presented by Jim FishwickWelcome\, new students! We understand it can be
  nerve-wracking to walk the corridors of a hallowed institution such as 
 St. Evangeline’s\, but just remember that all our esteemed alumni once
  felt the same way. Like you\, they would forget their Latin textbooks\,
  or fall hopelessly in love with someone in the year above them or uncov
 er a dark ritual taking place after hours on the lacrosse pitch. Simply 
 keep your wits about you\, your overcoat on during winter\, your mouth s
 hut\, and you’ll feel at home in no time. Sapere aude!\n\n\n\n\n\n\n\n
 The Lighthouse | Presented by PROTEA ImproUsually the lighthouse is mann
 ed by one keeper at a time. This year however\, the changeover hasn’t 
 gone to plan. And two lighthouse keepers are stuck with each other for t
 he season.The Lighthouse is a bonus show and is free for any ticket hold
 er that night! \n\n\n\nSHOWS :Friday 5 September 2025\, 7:30pm - 10:00p
 m\n\n\n\nTickets : General Admission $30Concession $20\n\n\n\n\nBook Now
 \n\n\n\n\n\n\n\nAccessibility\n\n\n\nAccessible Toilet (located in the C
 ourtyard)Registered Assistance Animals welcomeWheelchair Accessible (via
  the Courtyard)
URL;VALUE=URI:https://www.sac.org.au/events/dark-impro-friday-shows/
UID:urn:uuid:c25227a4-3ca9-4d9b-a6f1-5b9ef6f6614f
STATUS:CONFIRMED
ORGANIZER:
DTSTAMP:20260425T221807Z
DTSTART;TZID=Australia/Hobart:20250905T193000
DTEND;TZID=Australia/Hobart:20250905T220000
LOCATION:Ground Floor\, 77 Salamanca Place
END:VEVENT
END:VCALENDAR