BEGIN:VCALENDAR
METHOD:PUBLISH
VERSION:2.0
CALSCALE:GREGORIAN
PRODID:-//NONSGML Sandhills Development\, LLC//NONSGML Sugar Calendar Fe
 eds v3.8.2//EN
X-WR-CALNAME:Classical Salamanca ~ Mozart &amp\; Tchaikovsky
X-WR-CALDESC:Salamanca Arts Centre
X-WR-TIMEZONE:Australia/Hobart
BEGIN:VTIMEZONE
TZID:Australia/Hobart
BEGIN:STANDARD
TZOFFSETFROM:+1100
TZOFFSETTO:+1000
DTSTART:20250405T160000
TZNAME:AEST
END:STANDARD
END:VTIMEZONE
BEGIN:VTIMEZONE
TZID:Australia/Hobart
BEGIN:STANDARD
TZOFFSETFROM:+1100
TZOFFSETTO:+1000
DTSTART:20250405T160000
TZNAME:AEST
END:STANDARD
END:VTIMEZONE
BEGIN:VEVENT
SUMMARY:Classical Salamanca ~ Mozart &amp\; Tchaikovsky
DESCRIPTION:Presented by Salamanca Arts Centre\n\n\n\nWelcome to our Cla
 ssical&nbsp\;Salamanca 2025 series\,&nbsp\;live in the Long Gallery.Sala
 manca Arts Centre presents Mozart's Quintet in C major KV 515\, and Tcha
 ikovsky's 'Souvenir de Florence' Op70.\n\n\n\nSaturday 9 August 2025Door
 s &amp\; Bar open at 7:00pm | Music from 7:30pm \n\n\n\nDuration : 120 
 minutes (includes Interval)\n\n\n\nThe Peacock TheatreSalamanca Arts Cen
 tre[&nbsp\;Enter via the main doors at 77 Salamanca Place ]\n\n\n\n~~~~~
 In this concert of&nbsp\;Mozart's Quintet in C major KV 515\, and Tchaik
 ovsky's Souvenir de Florence\, Chamber Music leader\, Peter Tanfield\, l
 eads an ensemble of some of Tasmania's best and most highly-regarded mus
 icians\, including:(Violins)&nbsp\;Peter Tanfield and&nbsp\;Phoebe Masel
 (Violas)&nbsp\;Douglas Coghill&nbsp\;and&nbsp\;Damien Holloway\,(Celli)&
 nbsp\;William Hewer&nbsp\;and&nbsp\;Alexandra Békés&nbsp\;(Tchaikovsky
  only).\n\n\n\nPeter Tanfield\n\n\n\nPeter Tanfield&nbsp\;was born in En
 gland in 1961 and started the violin aged four.&nbsp\;He studied in Germ
 any\, Israel\, Switzerland and Holland.As soloist Peter has appeared wit
 h many major orchestras\; the Philharmonia\, City of London Sinfonia\, S
 cottish Chamber Orchestra\, West German Radio Orchestra\, Radio Symphony
  Orchestra of the RAI in Rome\, Scottish Chamber Orchestra. As concertma
 ster\, he has had extensive experience working with BBC Philharmonic\, R
 SO RAI Roma\, West German Radio Orchestra\, London Sinfonietta\, Scottis
 h Chamber Orchestra.\n\n\n\n\n\n\n\n~~~~~~~~~~~~~~~~~~~~~~~~This concert
  at Salamanca Arts Centre is supported by Arts Tasmania's 2025&nbsp\;Art
 s Projects Fund.Salamanca Arts Centre is grateful for this support via A
 rts Tasmania and the Minister for the Arts.Tickets:$15+BF (Students up t
 o 18 years of age)$39+BF (Adults) $35+BF (Concession card holders)Furthe
 r&nbsp\;discount offered to&nbsp\;SAC Associate members.\n\n\n\n\nBook N
 ow\n\n\n\n\n\n\nAccessibility\n\n\n\nAccessible ToiletRegistered Assista
 nce Animals welcomeWheelchair AccessibleCompanion Card
URL;VALUE=URI:https://www.sac.org.au/events/classical-salamanca-mozart-t
 chaikovsky/
UID:urn:uuid:80fd3409-1871-49c1-94e4-25e6b5c4f515
STATUS:CONFIRMED
ORGANIZER:
DTSTAMP:20260425T233646Z
DTSTART;TZID=Australia/Hobart:20250809T193000
DTEND;TZID=Australia/Hobart:20250809T213000
LOCATION:Ground Floor\, 77 Salamanca Place
END:VEVENT
END:VCALENDAR