BEGIN:VCALENDAR
METHOD:PUBLISH
VERSION:2.0
CALSCALE:GREGORIAN
PRODID:-//NONSGML Sandhills Development\, LLC//NONSGML Sugar Calendar Fe
 eds v3.8.2//EN
X-WR-CALNAME:Burlesque After Dark
X-WR-CALDESC:Salamanca Arts Centre
X-WR-TIMEZONE:Australia/Hobart
BEGIN:VTIMEZONE
TZID:Australia/Hobart
BEGIN:STANDARD
TZOFFSETFROM:+1100
TZOFFSETTO:+1000
DTSTART:20250405T160000
TZNAME:AEST
END:STANDARD
END:VTIMEZONE
BEGIN:VTIMEZONE
TZID:Australia/Hobart
BEGIN:STANDARD
TZOFFSETFROM:+1100
TZOFFSETTO:+1000
DTSTART:20250405T160000
TZNAME:AEST
END:STANDARD
END:VTIMEZONE
BEGIN:VEVENT
SUMMARY:Burlesque After Dark
DESCRIPTION:Presented by Miss Kitty's Meow\n\n\n\nPerformance:Saturday 1
 3 September 2025Doors Open 7:30pm | Show from 8:00pm\n\n\n\nDuration : 9
 0 minutes\n\n\n\nBurlesque After Dark hits The Founders Room at Salamanc
 a Arts Centre for an electrifying burlesque and cabaret spectacle.\n\n\n
 \nFusing classic burlesque with a modern twist\, the show transports aud
 iences into world of seduction\, sensuality\, and pure entertainment.\n\
 n\n\nBurlesque After Dark features a talented cast of burlesque and caba
 ret performers taking to the stage with elaborate costumes\, enchanting 
 choreography\, and sizzling performances. \n\n\n\nFrom the moment the c
 urtains rise to the final bow\, Burlesque After Dark promises to be a ni
 ght of enchantment\, excitement\, and adult fun. \n\n\n\nGrab your frie
 nds\, dress to impress\, and get ready to be dazzled by the magic of bur
 lesque at its finest.\n\n\n\nTickets:Concession $25Adult $40VIP $45Note 
 Companion Card holders free/welcome\n\n\n\nDoor Sales $45 (if available)
 \n\n\n\n**This Event is Recommended for 18+ audienceIncludes partial and
  implied nudity\, adult themes\, coarse language\n\n\n\n\nBook Now\n\n\n
 \n\n\n\nAccessibility\n\n\n\nAccessible Toilet (on Level 2)Registered As
 sistance Animals welcomeWheelchair Accessible (via the Lift in the Court
 yard)Companion Card\n\n\n\n\n\n\n\n\n\n\n\n\n\n\nGrace Cherry (2024). Sa
 ssy Boudoir\n\n\n\nGrace Cherry (2023). EvokeD Image
URL;VALUE=URI:https://www.sac.org.au/events/burlesque-after-dark/
UID:urn:uuid:33bbc7ed-c474-48ca-9cda-635240ec6d75
STATUS:CONFIRMED
ORGANIZER:
DTSTAMP:20260425T221854Z
DTSTART;TZID=Australia/Hobart:20250913T193000
DTEND;TZID=Australia/Hobart:20250913T213000
END:VEVENT
END:VCALENDAR