BEGIN:VCALENDAR
METHOD:PUBLISH
VERSION:2.0
CALSCALE:GREGORIAN
PRODID:-//NONSGML Sandhills Development\, LLC//NONSGML Sugar Calendar Fe
 eds v3.8.2//EN
X-WR-CALNAME:Burlesque After Dark
X-WR-CALDESC:Salamanca Arts Centre
X-WR-TIMEZONE:Australia/Hobart
BEGIN:VTIMEZONE
TZID:Australia/Hobart
BEGIN:DAYLIGHT
TZOFFSETFROM:+1000
TZOFFSETTO:+1100
DTSTART:20251004T160000
TZNAME:AEDT
END:DAYLIGHT
END:VTIMEZONE
BEGIN:VTIMEZONE
TZID:Australia/Hobart
BEGIN:DAYLIGHT
TZOFFSETFROM:+1000
TZOFFSETTO:+1100
DTSTART:20251004T160000
TZNAME:AEDT
END:DAYLIGHT
END:VTIMEZONE
BEGIN:VEVENT
SUMMARY:Burlesque After Dark
DESCRIPTION:Join us Saturday 17 January in the Founders Room at Salamanc
 a Arts Centre for a night of captivating cabaret and cheeky charm.\n\n\n
 \nEvent presented by Miss Kitty's MeowSaturday 17th January 2026Doors Op
 en 7:30pm | Performance from 8pm – 9:30pm\n\n\n\nStep into the sultry 
 world of Burlesque After Dark\, where glitter\, tease\, and old-school g
 lamour meet late-night mischief.\n\n\n\nFeaturing a dazzling lineup of b
 urlesque performers\, showgirls\, and variety acts\, this is Hobart’s 
 hottest evening of feathers\, fans\, and fabulous fun.\n\n\n\nExpect a m
 ix of classic striptease\, comedy\, and bold contemporary cabaret perfor
 mances — all wrapped up in the intimate\, electric atmosphere that mak
 es Burlesque After Dark a crowd favourite.\n\n\n\n- - - - - \n\n\n\nTICK
 ETING INFORMATION\n\n\n\n$48 - VIP seating (Cabaret Tables)$40 - General
  admission$28 - Concession\n\n\n\nDoor sales are subject to availability
 .\n\n\n\nCompanion Card holders welcome (FREE)\n\n\n\nCONTENT WARNINGS\n
 \n\n\nPartial and implied nudityAdult languageRecommended audience 18+\n
 \n\n\nBook Now\n\n\n\n\n\nGrace Cherry 2020 Neil Buonaccorsi\n\n\n\n\n\n
 Grace Cherry / 2025/ Clear Image Photography
URL;VALUE=URI:https://www.sac.org.au/events/bulesque-after-dark/
UID:urn:uuid:79a10fa6-e935-4162-9771-99a403b67ca8
STATUS:CONFIRMED
ORGANIZER:
DTSTAMP:20260425T220709Z
DTSTART;TZID=Australia/Hobart:20260117T200000
DTEND;TZID=Australia/Hobart:20260117T213000
LOCATION:Level 2\, 65b Woobys Lane
END:VEVENT
END:VCALENDAR